{ "currentVersion": 11.3, "serviceDescription": "
This is a tile mosaic composed of 3-foot aerial photographs of the Puyallup River in 1940.<\/SPAN><\/P> Contact Info: <\/SPAN><\/P> GIS Team<\/SPAN><\/P> gisteam@cityoftacoma.org<\/SPAN><\/P> Company: Army Corps of Engineers<\/SPAN><\/P> Scale: Approx. 1:15,000<\/SPAN><\/P> <a href=\"http://riverhistory.ess.washington.edu/index.html\" target=\"_blank\">Puget Sound River History Project - Version 1</a><\/SPAN><\/SPAN><\/P> <a href=\"file:////fs005/Orthos/1940/Puget Sound River History Project.htm\" target=\"_blank\">Puget Sound River History Project - Version 2</a><\/SPAN><\/SPAN><\/P> <a href=\"http://riverhistory.ess.washington.edu/duw_puy/photo_1940/harn/duw_puy_1940_meta.html\" target=\"_blank\">Metadata</a><\/SPAN><\/P><\/DIV><\/DIV><\/DIV><\/DIV>",
"name": "Imagery/PuyallupRiver_1940_3ft",
"description": " This is a tile mosaic composed of 3-foot aerial photographs of the Puyallup River in 1940.<\/SPAN><\/P> Contact Info: <\/SPAN><\/P> GIS Team<\/SPAN><\/P> gisteam@cityoftacoma.org<\/SPAN><\/P> Company: Army Corps of Engineers<\/SPAN><\/P> Scale: Approx. 1:15,000<\/SPAN><\/P> <a href=\"http://riverhistory.ess.washington.edu/index.html\" target=\"_blank\">Puget Sound River History Project - Version 1</a><\/SPAN><\/SPAN><\/P> <a href=\"file:////fs005/Orthos/1940/Puget Sound River History Project.htm\" target=\"_blank\">Puget Sound River History Project - Version 2</a><\/SPAN><\/SPAN><\/P> <a href=\"http://riverhistory.ess.washington.edu/duw_puy/photo_1940/harn/duw_puy_1940_meta.html\" target=\"_blank\">Metadata</a><\/SPAN><\/P><\/DIV><\/DIV><\/DIV><\/DIV>",
"extent": {
"xmin": 1142687.5873008817,
"ymin": 658328.7055209728,
"xmax": 1191072.7155390815,
"ymax": 750622.5831894726,
"spatialReference": {
"wkid": 2927,
"latestWkid": 2927
}
},
"initialExtent": {
"xmin": 1142687.5873008817,
"ymin": 658328.7055209728,
"xmax": 1191072.7155390815,
"ymax": 750622.5831894726,
"spatialReference": {
"wkid": 2927,
"latestWkid": 2927
}
},
"fullExtent": {
"xmin": 1142687.5873008817,
"ymin": 658328.7055209728,
"xmax": 1191072.7155390815,
"ymax": 750622.5831894726,
"spatialReference": {
"wkid": 2927,
"latestWkid": 2927
}
},
"sortableFields": "MinPS,MaxPS,LowPS,HighPS,CenterX,CenterY,ZOrder,Shape_Length,Shape_Area",
"bandCount": 1,
"pixelType": "U8",
"minValues": [
0
],
"maxValues": [
255
],
"meanValues": [
53.82980709199017
],
"stdvValues": [
77.33718749362806
],
"hasMultidimensions": false,
"pixelSizeX": 3.3530927399999824,
"pixelSizeY": 3.3530927399999895,
"meanPixelSize": 1.0220247112014182,
"datasetFormat": "AMD",
"uncompressedSize": 397185750,
"blockWidth": 2048,
"blockHeight": 256,
"compressionType": "None",
"bandNames": [
"Band_1"
],
"allowCopy": true,
"allowAnalysis": true,
"itemAccess": false,
"inspectionCapabilities": "",
"minPixelSize": 0,
"maxPixelSize": 0,
"copyrightText": "City of Tacoma, IT GIS Team",
"serviceDataType": "esriImageServiceDataTypeGeneric",
"serviceSourceType": "esriImageServiceSourceTypeMosaicDataset",
"objectIdField": "OBJECTID",
"fields": [
{
"name": "OBJECTID",
"type": "esriFieldTypeOID",
"alias": "OBJECTID",
"domain": null
},
{
"name": "Shape",
"type": "esriFieldTypeGeometry",
"alias": "Shape",
"domain": null
},
{
"name": "Name",
"type": "esriFieldTypeString",
"alias": "Name",
"domain": null,
"length": 200
},
{
"name": "MinPS",
"type": "esriFieldTypeDouble",
"alias": "MinPS",
"domain": null
},
{
"name": "MaxPS",
"type": "esriFieldTypeDouble",
"alias": "MaxPS",
"domain": null
},
{
"name": "LowPS",
"type": "esriFieldTypeDouble",
"alias": "LowPS",
"domain": null
},
{
"name": "HighPS",
"type": "esriFieldTypeDouble",
"alias": "HighPS",
"domain": null
},
{
"name": "Category",
"type": "esriFieldTypeInteger",
"alias": "Category",
"domain": {
"type": "codedValue",
"name": "MosaicCatalogItemCategoryDomain",
"description": "Catalog item categories.",
"codedValues": [
{
"name": "Unknown",
"code": 0
},
{
"name": "Primary",
"code": 1
},
{
"name": "Overview",
"code": 2
},
{
"name": "Unprocessed Overview",
"code": 3
},
{
"name": "Partial Overview",
"code": 4
},
{
"name": "Inactive",
"code": 5
},
{
"name": "Uploaded",
"code": 253
},
{
"name": "Incomplete",
"code": 254
},
{
"name": "Custom",
"code": 255
}
],
"mergePolicy": "esriMPTDefaultValue",
"splitPolicy": "esriSPTDefaultValue"
}
},
{
"name": "Tag",
"type": "esriFieldTypeString",
"alias": "Tag",
"domain": null,
"length": 100
},
{
"name": "GroupName",
"type": "esriFieldTypeString",
"alias": "GroupName",
"domain": null,
"length": 100
},
{
"name": "ProductName",
"type": "esriFieldTypeString",
"alias": "ProductName",
"domain": null,
"length": 100
},
{
"name": "CenterX",
"type": "esriFieldTypeDouble",
"alias": "CenterX",
"domain": null
},
{
"name": "CenterY",
"type": "esriFieldTypeDouble",
"alias": "CenterY",
"domain": null
},
{
"name": "ZOrder",
"type": "esriFieldTypeInteger",
"alias": "ZOrder",
"domain": null
},
{
"name": "Shape_Length",
"type": "esriFieldTypeDouble",
"alias": "Shape_Length",
"domain": null
},
{
"name": "Shape_Area",
"type": "esriFieldTypeDouble",
"alias": "Shape_Area",
"domain": null
}
],
"capabilities": "Image,Metadata,Catalog",
"defaultMosaicMethod": "Northwest",
"allowedMosaicMethods": "NorthWest,Center,LockRaster,ByAttribute,Nadir,Viewpoint,Seamline,None",
"sortField": "",
"sortValue": null,
"sortAscending": true,
"mosaicOperator": "First",
"maxDownloadSizeLimit": 2048,
"defaultCompressionQuality": 75,
"defaultResamplingMethod": "Nearest",
"maxImageHeight": 4100,
"maxImageWidth": 15000,
"maxRecordCount": 1000,
"maxDownloadImageCount": 20,
"maxMosaicImageCount": 20,
"allowRasterFunction": true,
"rasterFunctionInfos": [
{
"name": "None",
"description": "",
"help": ""
}
],
"rasterTypeInfos": [
{
"name": "Raster Dataset",
"description": "Supports all ArcGIS Raster Datasets",
"help": ""
}
],
"mensurationCapabilities": "None",
"hasHistograms": true,
"hasColormap": false,
"hasRasterAttributeTable": false,
"minScale": 0,
"maxScale": 0,
"exportTilesAllowed": false,
"supportsStatistics": true,
"supportsAdvancedQueries": true,
"editFieldsInfo": null,
"ownershipBasedAccessControlForRasters": null,
"allowComputeTiePoints": false,
"useStandardizedQueries": true,
"advancedQueryCapabilities": {
"useStandardizedQueries": true,
"supportsStatistics": true,
"supportsOrderBy": true,
"supportsDistinct": true,
"supportsPagination": true
},
"spatialReference": {
"wkid": 2927,
"latestWkid": 2927
}
}