{ "currentVersion": 11.3, "serviceDescription": "
Service Area 2006 - 6 inch Aerials for ArcGIS Online/Bing Maps/Google Maps, etc.<\/SPAN><\/P> Contact Info: <\/SPAN><\/P> GIS Team<\/SPAN><\/P> GISteam@cityoftacoma.org<\/SPAN><\/P> Photos taken in May of 2006 and supplied by:<\/SPAN><\/P> Pictometry International Corp.<\/SPAN><\/P> 100 Town Centre Drive, Suite A<\/SPAN><\/P> Rochester, NY 14623<\/SPAN><\/P> Additional processing performed by:<\/SPAN><\/P> Blue Sky GIS<\/SPAN><\/P> 4300 SE 51st Ave.<\/SPAN><\/P> Portland, OR 97206<\/SPAN><\/P> 888.247.8195<\/SPAN><\/P> 503.774.3568<\/SPAN><\/P> Email: info@blueskygis.com<\/SPAN><\/P> Website: http://www.blueskygis.com<\/SPAN><\/P><\/DIV><\/DIV>",
"name": "Imagery/ServiceArea_2006_6in",
"description": " Service Area 2006 - 6 inch Aerials for ArcGIS Online/Bing Maps/Google Maps, etc.<\/SPAN><\/P> Contact Info: <\/SPAN><\/P> GIS Team<\/SPAN><\/P> GISteam@cityoftacoma.org<\/SPAN><\/P> Photos taken in May of 2006 and supplied by:<\/SPAN><\/P> Pictometry International Corp.<\/SPAN><\/P> 100 Town Centre Drive, Suite A<\/SPAN><\/P> Rochester, NY 14623<\/SPAN><\/P> Additional processing performed by:<\/SPAN><\/P> Blue Sky GIS<\/SPAN><\/P> 4300 SE 51st Ave.<\/SPAN><\/P> Portland, OR 97206<\/SPAN><\/P> 888.247.8195<\/SPAN><\/P> 503.774.3568<\/SPAN><\/P> Email: info@blueskygis.com<\/SPAN><\/P> Website: http://www.blueskygis.com<\/SPAN><\/P><\/DIV><\/DIV>",
"extent": {
"xmin": 1099999.764084,
"ymin": 583999.744361,
"xmax": 1265000.264084,
"ymax": 737000.244361,
"spatialReference": {
"wkid": 2927,
"latestWkid": 2927
}
},
"initialExtent": {
"xmin": 1099999.764084,
"ymin": 583999.744361,
"xmax": 1265000.264084,
"ymax": 737000.244361,
"spatialReference": {
"wkid": 2927,
"latestWkid": 2927
}
},
"fullExtent": {
"xmin": 1099999.764084,
"ymin": 583999.744361,
"xmax": 1265000.264084,
"ymax": 737000.244361,
"spatialReference": {
"wkid": 2927,
"latestWkid": 2927
}
},
"sortableFields": "MinPS,MaxPS,LowPS,HighPS,CenterX,CenterY,ZOrder,Shape_Length,Shape_Area",
"bandCount": 3,
"pixelType": "U8",
"minValues": [
0,
0,
0
],
"maxValues": [
255,
255,
255
],
"meanValues": [
97.48269566011554,
111.86938603393564,
83.56454403575185
],
"stdvValues": [
52.25694877414534,
49.42432511170219,
40.46717234197255
],
"hasMultidimensions": false,
"pixelSizeX": 0.5,
"pixelSizeY": 0.5,
"meanPixelSize": 0.15240030480060962,
"datasetFormat": "AMD",
"uncompressedSize": 302941908003,
"blockWidth": 2048,
"blockHeight": 256,
"compressionType": "None",
"bandNames": [
"Band_1",
"Band_2",
"Band_3"
],
"allowCopy": true,
"allowAnalysis": true,
"itemAccess": false,
"inspectionCapabilities": "",
"minPixelSize": 0,
"maxPixelSize": 0,
"copyrightText": "City of Tacoma, IT GIS Team",
"serviceDataType": "esriImageServiceDataTypeRGB",
"serviceSourceType": "esriImageServiceSourceTypeMosaicDataset",
"objectIdField": "OBJECTID",
"fields": [
{
"name": "OBJECTID",
"type": "esriFieldTypeOID",
"alias": "OBJECTID",
"domain": null
},
{
"name": "Shape",
"type": "esriFieldTypeGeometry",
"alias": "Shape",
"domain": null
},
{
"name": "Name",
"type": "esriFieldTypeString",
"alias": "Name",
"domain": null,
"length": 200
},
{
"name": "MinPS",
"type": "esriFieldTypeDouble",
"alias": "MinPS",
"domain": null
},
{
"name": "MaxPS",
"type": "esriFieldTypeDouble",
"alias": "MaxPS",
"domain": null
},
{
"name": "LowPS",
"type": "esriFieldTypeDouble",
"alias": "LowPS",
"domain": null
},
{
"name": "HighPS",
"type": "esriFieldTypeDouble",
"alias": "HighPS",
"domain": null
},
{
"name": "Category",
"type": "esriFieldTypeInteger",
"alias": "Category",
"domain": {
"type": "codedValue",
"name": "MosaicCatalogItemCategoryDomain",
"description": "Catalog item categories.",
"codedValues": [
{
"name": "Unknown",
"code": 0
},
{
"name": "Primary",
"code": 1
},
{
"name": "Overview",
"code": 2
},
{
"name": "Unprocessed Overview",
"code": 3
},
{
"name": "Partial Overview",
"code": 4
},
{
"name": "Inactive",
"code": 5
},
{
"name": "Uploaded",
"code": 253
},
{
"name": "Incomplete",
"code": 254
},
{
"name": "Custom",
"code": 255
}
],
"mergePolicy": "esriMPTDefaultValue",
"splitPolicy": "esriSPTDefaultValue"
}
},
{
"name": "Tag",
"type": "esriFieldTypeString",
"alias": "Tag",
"domain": null,
"length": 100
},
{
"name": "GroupName",
"type": "esriFieldTypeString",
"alias": "GroupName",
"domain": null,
"length": 100
},
{
"name": "ProductName",
"type": "esriFieldTypeString",
"alias": "ProductName",
"domain": null,
"length": 100
},
{
"name": "CenterX",
"type": "esriFieldTypeDouble",
"alias": "CenterX",
"domain": null
},
{
"name": "CenterY",
"type": "esriFieldTypeDouble",
"alias": "CenterY",
"domain": null
},
{
"name": "ZOrder",
"type": "esriFieldTypeInteger",
"alias": "ZOrder",
"domain": null
},
{
"name": "Shape_Length",
"type": "esriFieldTypeDouble",
"alias": "Shape_Length",
"domain": null
},
{
"name": "Shape_Area",
"type": "esriFieldTypeDouble",
"alias": "Shape_Area",
"domain": null
}
],
"capabilities": "Image,Metadata,Catalog",
"defaultMosaicMethod": "Northwest",
"allowedMosaicMethods": "NorthWest,Center,LockRaster,ByAttribute,Nadir,Viewpoint,Seamline,None",
"sortField": "",
"sortValue": null,
"sortAscending": true,
"mosaicOperator": "First",
"maxDownloadSizeLimit": 2048,
"defaultCompressionQuality": 75,
"defaultResamplingMethod": "Nearest",
"maxImageHeight": 4100,
"maxImageWidth": 15000,
"maxRecordCount": 1000,
"maxDownloadImageCount": 20,
"maxMosaicImageCount": 20,
"allowRasterFunction": true,
"rasterFunctionInfos": [
{
"name": "None",
"description": "",
"help": ""
}
],
"rasterTypeInfos": [
{
"name": "Raster Dataset",
"description": "Supports all ArcGIS Raster Datasets",
"help": ""
}
],
"mensurationCapabilities": "None",
"hasHistograms": true,
"hasColormap": false,
"hasRasterAttributeTable": false,
"minScale": 0,
"maxScale": 0,
"exportTilesAllowed": false,
"supportsStatistics": true,
"supportsAdvancedQueries": true,
"editFieldsInfo": null,
"ownershipBasedAccessControlForRasters": null,
"allowComputeTiePoints": false,
"useStandardizedQueries": true,
"advancedQueryCapabilities": {
"useStandardizedQueries": true,
"supportsStatistics": true,
"supportsOrderBy": true,
"supportsDistinct": true,
"supportsPagination": true
},
"spatialReference": {
"wkid": 2927,
"latestWkid": 2927
}
}