{ "currentVersion": 11.3, "serviceDescription": "
Aerial photography of the Service Area from 2009.<\/SPAN><\/P> Contact Info: <\/SPAN><\/SPAN><\/P> Name: GIS Team<\/SPAN><\/SPAN><\/P> Email: GISteam@cityoftacoma.org<\/SPAN><\/SPAN><\/P> <\/P> Company: DigitalGlobe<\/SPAN><\/P> PROJECT SPECIFICATIONS -- ACCURACY REPORT<\/SPAN><\/P> Project: WA Seattle-30cm-0709_4488<\/SPAN><\/P> Datum: NAD 83<\/SPAN><\/P> Projection: UTM<\/SPAN><\/P> Zone: 10<\/SPAN><\/P> Units: meters<\/SPAN><\/P> GSD (pixel size): 30 cm<\/SPAN><\/P> Camera Type: Leica Geosystems ADS40-SH51<\/SPAN><\/P> Average Acquisition Altitude: 9,600 feet above ground level<\/SPAN><\/P> DEM Source: National Elevation Dataset (NED)<\/SPAN><\/P> Reference Source: Airborne GPS/IMU<\/SPAN><\/P> Photo Date Range: July 2 through July 22, 2009<\/SPAN><\/P> Cloud cover: Entire Market is cloud free<\/SPAN><\/P> Resolution: Entire Market acquired at 30 cm GSD<\/SPAN><\/P> Sun Angle: Entire Market acquired with sun angle above 30 degrees<\/SPAN><\/P> Accuracy Points Measured: 47<\/SPAN><\/P> Accuracy: 2.01 meters CE90<\/SPAN><\/P> Accuracy report, date prepared: September 30, 2009<\/SPAN><\/P> Accuracy report prepared by: Mark Meyer<\/SPAN><\/P><\/DIV><\/DIV><\/DIV><\/DIV>",
"name": "Imagery/ServiceArea_2009_30cm",
"description": " Aerial photography of the Service Area from 2009.<\/SPAN><\/P> Contact Info: <\/SPAN><\/SPAN><\/P> Name: GIS Team<\/SPAN><\/SPAN><\/P> Email: GISteam@cityoftacoma.org<\/SPAN><\/SPAN><\/P> <\/P> Company: DigitalGlobe<\/SPAN><\/P> PROJECT SPECIFICATIONS -- ACCURACY REPORT<\/SPAN><\/P> Project: WA Seattle-30cm-0709_4488<\/SPAN><\/P> Datum: NAD 83<\/SPAN><\/P> Projection: UTM<\/SPAN><\/P> Zone: 10<\/SPAN><\/P> Units: meters<\/SPAN><\/P> GSD (pixel size): 30 cm<\/SPAN><\/P> Camera Type: Leica Geosystems ADS40-SH51<\/SPAN><\/P> Average Acquisition Altitude: 9,600 feet above ground level<\/SPAN><\/P> DEM Source: National Elevation Dataset (NED)<\/SPAN><\/P> Reference Source: Airborne GPS/IMU<\/SPAN><\/P> Photo Date Range: July 2 through July 22, 2009<\/SPAN><\/P> Cloud cover: Entire Market is cloud free<\/SPAN><\/P> Resolution: Entire Market acquired at 30 cm GSD<\/SPAN><\/P> Sun Angle: Entire Market acquired with sun angle above 30 degrees<\/SPAN><\/P> Accuracy Points Measured: 47<\/SPAN><\/P> Accuracy: 2.01 meters CE90<\/SPAN><\/P> Accuracy report, date prepared: September 30, 2009<\/SPAN><\/P> Accuracy report prepared by: Mark Meyer<\/SPAN><\/P><\/DIV><\/DIV><\/DIV><\/DIV>",
"extent": {
"xmin": 1105996.6570739746,
"ymin": 539001.0605672281,
"xmax": 1264997.3233239707,
"ymax": 740002.6270672232,
"spatialReference": {
"wkid": 2927,
"latestWkid": 2927
}
},
"initialExtent": {
"xmin": 1105996.6570739746,
"ymin": 539001.0605672281,
"xmax": 1264997.3233239707,
"ymax": 740002.6270672232,
"spatialReference": {
"wkid": 2927,
"latestWkid": 2927
}
},
"fullExtent": {
"xmin": 1105996.6570739746,
"ymin": 539001.0605672281,
"xmax": 1264997.3233239707,
"ymax": 740002.6270672232,
"spatialReference": {
"wkid": 2927,
"latestWkid": 2927
}
},
"sortableFields": "MinPS,MaxPS,LowPS,HighPS,CenterX,CenterY,ZOrder,Shape_Length,Shape_Area",
"bandCount": 3,
"pixelType": "U8",
"minValues": [
0,
27,
37
],
"maxValues": [
255,
253,
245
],
"meanValues": [
104.30709313980903,
133.3910942373435,
114.10087859290797
],
"stdvValues": [
47.90960510348039,
34.13831017418196,
29.13693203744953
],
"hasMultidimensions": false,
"pixelSizeX": 0.9842499999999755,
"pixelSizeY": 0.9842499999999759,
"meanPixelSize": 0.2999999999999926,
"datasetFormat": "AMD",
"uncompressedSize": 98971190430,
"blockWidth": 2048,
"blockHeight": 256,
"compressionType": "None",
"bandNames": [
"Band_1",
"Band_2",
"Band_3"
],
"allowCopy": true,
"allowAnalysis": true,
"itemAccess": false,
"inspectionCapabilities": "",
"minPixelSize": 0,
"maxPixelSize": 0,
"copyrightText": "City of Tacoma, GIS Team",
"serviceDataType": "esriImageServiceDataTypeRGB",
"serviceSourceType": "esriImageServiceSourceTypeMosaicDataset",
"objectIdField": "OBJECTID",
"fields": [
{
"name": "OBJECTID",
"type": "esriFieldTypeOID",
"alias": "OBJECTID",
"domain": null
},
{
"name": "Shape",
"type": "esriFieldTypeGeometry",
"alias": "Shape",
"domain": null
},
{
"name": "Name",
"type": "esriFieldTypeString",
"alias": "Name",
"domain": null,
"length": 200
},
{
"name": "MinPS",
"type": "esriFieldTypeDouble",
"alias": "MinPS",
"domain": null
},
{
"name": "MaxPS",
"type": "esriFieldTypeDouble",
"alias": "MaxPS",
"domain": null
},
{
"name": "LowPS",
"type": "esriFieldTypeDouble",
"alias": "LowPS",
"domain": null
},
{
"name": "HighPS",
"type": "esriFieldTypeDouble",
"alias": "HighPS",
"domain": null
},
{
"name": "Category",
"type": "esriFieldTypeInteger",
"alias": "Category",
"domain": {
"type": "codedValue",
"name": "MosaicCatalogItemCategoryDomain",
"description": "Catalog item categories.",
"codedValues": [
{
"name": "Unknown",
"code": 0
},
{
"name": "Primary",
"code": 1
},
{
"name": "Overview",
"code": 2
},
{
"name": "Unprocessed Overview",
"code": 3
},
{
"name": "Partial Overview",
"code": 4
},
{
"name": "Inactive",
"code": 5
},
{
"name": "Uploaded",
"code": 253
},
{
"name": "Incomplete",
"code": 254
},
{
"name": "Custom",
"code": 255
}
],
"mergePolicy": "esriMPTDefaultValue",
"splitPolicy": "esriSPTDefaultValue"
}
},
{
"name": "Tag",
"type": "esriFieldTypeString",
"alias": "Tag",
"domain": null,
"length": 100
},
{
"name": "GroupName",
"type": "esriFieldTypeString",
"alias": "GroupName",
"domain": null,
"length": 100
},
{
"name": "ProductName",
"type": "esriFieldTypeString",
"alias": "ProductName",
"domain": null,
"length": 100
},
{
"name": "CenterX",
"type": "esriFieldTypeDouble",
"alias": "CenterX",
"domain": null
},
{
"name": "CenterY",
"type": "esriFieldTypeDouble",
"alias": "CenterY",
"domain": null
},
{
"name": "ZOrder",
"type": "esriFieldTypeInteger",
"alias": "ZOrder",
"domain": null
},
{
"name": "Shape_Length",
"type": "esriFieldTypeDouble",
"alias": "Shape_Length",
"domain": null
},
{
"name": "Shape_Area",
"type": "esriFieldTypeDouble",
"alias": "Shape_Area",
"domain": null
}
],
"capabilities": "Image,Metadata,Catalog",
"defaultMosaicMethod": "Northwest",
"allowedMosaicMethods": "NorthWest,Center,LockRaster,ByAttribute,Nadir,Viewpoint,Seamline,None",
"sortField": "",
"sortValue": null,
"sortAscending": true,
"mosaicOperator": "First",
"maxDownloadSizeLimit": 2048,
"defaultCompressionQuality": 75,
"defaultResamplingMethod": "Nearest",
"maxImageHeight": 4100,
"maxImageWidth": 15000,
"maxRecordCount": 1000,
"maxDownloadImageCount": 20,
"maxMosaicImageCount": 20,
"allowRasterFunction": true,
"rasterFunctionInfos": [
{
"name": "None",
"description": "",
"help": ""
}
],
"rasterTypeInfos": [
{
"name": "Raster Dataset",
"description": "Supports all ArcGIS Raster Datasets",
"help": ""
}
],
"mensurationCapabilities": "None",
"hasHistograms": true,
"hasColormap": false,
"hasRasterAttributeTable": false,
"minScale": 0,
"maxScale": 0,
"exportTilesAllowed": false,
"supportsStatistics": true,
"supportsAdvancedQueries": true,
"editFieldsInfo": null,
"ownershipBasedAccessControlForRasters": null,
"allowComputeTiePoints": false,
"useStandardizedQueries": true,
"advancedQueryCapabilities": {
"useStandardizedQueries": true,
"supportsStatistics": true,
"supportsOrderBy": true,
"supportsDistinct": true,
"supportsPagination": true
},
"spatialReference": {
"wkid": 2927,
"latestWkid": 2927
}
}