{ "currentVersion": 11.3, "serviceDescription": "
This dataset is a tile mosaic of 1-foot aerials of Downtown Tacoma from 2008.<\/SPAN><\/P><\/DIV><\/DIV><\/DIV>",
"name": "Imagery/TacomaDowntown_2008_1ft",
"description": " This dataset is a tile mosaic of 1-foot aerials of Downtown Tacoma from 2008.<\/SPAN><\/P><\/DIV><\/DIV><\/DIV>",
"extent": {
"xmin": 1156468.9937931448,
"ymin": 703631.2542784306,
"xmax": 1160562.9855997886,
"ymax": 708500.2445340604,
"spatialReference": {
"wkid": 2927,
"latestWkid": 2927
}
},
"initialExtent": {
"xmin": 1156468.9937931448,
"ymin": 703631.2542784306,
"xmax": 1160562.9855997886,
"ymax": 708500.2445340604,
"spatialReference": {
"wkid": 2927,
"latestWkid": 2927
}
},
"fullExtent": {
"xmin": 1156468.9937931448,
"ymin": 703631.2542784306,
"xmax": 1160562.9855997886,
"ymax": 708500.2445340604,
"spatialReference": {
"wkid": 2927,
"latestWkid": 2927
}
},
"sortableFields": "MinPS,MaxPS,LowPS,HighPS,CenterX,CenterY,ZOrder,Shape_Length,Shape_Area",
"bandCount": 3,
"pixelType": "U8",
"minValues": [
0,
0,
0
],
"maxValues": [
255,
255,
255
],
"meanValues": [
89.22790150694458,
93.98819344803823,
82.70495053485266
],
"stdvValues": [
65.52509359306252,
64.81095917966297,
59.01913742784479
],
"hasMultidimensions": false,
"pixelSizeX": 0.9999979986916908,
"pixelSizeY": 0.9999979986916739,
"meanPixelSize": 0.304799999601224,
"datasetFormat": "AMD",
"uncompressedSize": 59801058,
"blockWidth": 2048,
"blockHeight": 256,
"compressionType": "None",
"bandNames": [
"Band_1",
"Band_2",
"Band_3"
],
"allowCopy": true,
"allowAnalysis": true,
"itemAccess": false,
"inspectionCapabilities": "",
"minPixelSize": 0,
"maxPixelSize": 0,
"copyrightText": "City of Tacoma, GIS Team",
"serviceDataType": "esriImageServiceDataTypeRGB",
"serviceSourceType": "esriImageServiceSourceTypeMosaicDataset",
"objectIdField": "OBJECTID",
"fields": [
{
"name": "OBJECTID",
"type": "esriFieldTypeOID",
"alias": "OBJECTID",
"domain": null
},
{
"name": "Shape",
"type": "esriFieldTypeGeometry",
"alias": "Shape",
"domain": null
},
{
"name": "Name",
"type": "esriFieldTypeString",
"alias": "Name",
"domain": null,
"length": 200
},
{
"name": "MinPS",
"type": "esriFieldTypeDouble",
"alias": "MinPS",
"domain": null
},
{
"name": "MaxPS",
"type": "esriFieldTypeDouble",
"alias": "MaxPS",
"domain": null
},
{
"name": "LowPS",
"type": "esriFieldTypeDouble",
"alias": "LowPS",
"domain": null
},
{
"name": "HighPS",
"type": "esriFieldTypeDouble",
"alias": "HighPS",
"domain": null
},
{
"name": "Category",
"type": "esriFieldTypeInteger",
"alias": "Category",
"domain": {
"type": "codedValue",
"name": "MosaicCatalogItemCategoryDomain",
"description": "Catalog item categories.",
"codedValues": [
{
"name": "Unknown",
"code": 0
},
{
"name": "Primary",
"code": 1
},
{
"name": "Overview",
"code": 2
},
{
"name": "Unprocessed Overview",
"code": 3
},
{
"name": "Partial Overview",
"code": 4
},
{
"name": "Inactive",
"code": 5
},
{
"name": "Uploaded",
"code": 253
},
{
"name": "Incomplete",
"code": 254
},
{
"name": "Custom",
"code": 255
}
],
"mergePolicy": "esriMPTDefaultValue",
"splitPolicy": "esriSPTDefaultValue"
}
},
{
"name": "Tag",
"type": "esriFieldTypeString",
"alias": "Tag",
"domain": null,
"length": 100
},
{
"name": "GroupName",
"type": "esriFieldTypeString",
"alias": "GroupName",
"domain": null,
"length": 100
},
{
"name": "ProductName",
"type": "esriFieldTypeString",
"alias": "ProductName",
"domain": null,
"length": 100
},
{
"name": "CenterX",
"type": "esriFieldTypeDouble",
"alias": "CenterX",
"domain": null
},
{
"name": "CenterY",
"type": "esriFieldTypeDouble",
"alias": "CenterY",
"domain": null
},
{
"name": "ZOrder",
"type": "esriFieldTypeInteger",
"alias": "ZOrder",
"domain": null
},
{
"name": "Shape_Length",
"type": "esriFieldTypeDouble",
"alias": "Shape_Length",
"domain": null
},
{
"name": "Shape_Area",
"type": "esriFieldTypeDouble",
"alias": "Shape_Area",
"domain": null
}
],
"capabilities": "Image,Metadata,Catalog",
"defaultMosaicMethod": "Northwest",
"allowedMosaicMethods": "NorthWest,Center,LockRaster,ByAttribute,Nadir,Viewpoint,Seamline,None",
"sortField": "",
"sortValue": null,
"sortAscending": true,
"mosaicOperator": "First",
"maxDownloadSizeLimit": 2048,
"defaultCompressionQuality": 75,
"defaultResamplingMethod": "Nearest",
"maxImageHeight": 4100,
"maxImageWidth": 15000,
"maxRecordCount": 1000,
"maxDownloadImageCount": 20,
"maxMosaicImageCount": 20,
"allowRasterFunction": true,
"rasterFunctionInfos": [
{
"name": "None",
"description": "",
"help": ""
}
],
"rasterTypeInfos": [
{
"name": "Raster Dataset",
"description": "Supports all ArcGIS Raster Datasets",
"help": ""
}
],
"mensurationCapabilities": "None",
"hasHistograms": true,
"hasColormap": false,
"hasRasterAttributeTable": false,
"minScale": 0,
"maxScale": 0,
"exportTilesAllowed": false,
"supportsStatistics": true,
"supportsAdvancedQueries": true,
"editFieldsInfo": null,
"ownershipBasedAccessControlForRasters": null,
"allowComputeTiePoints": false,
"useStandardizedQueries": true,
"advancedQueryCapabilities": {
"useStandardizedQueries": true,
"supportsStatistics": true,
"supportsOrderBy": true,
"supportsDistinct": true,
"supportsPagination": true
},
"spatialReference": {
"wkid": 2927,
"latestWkid": 2927
}
}