{ "currentVersion": 11.3, "serviceDescription": "
This dataset is a tile mosaic of 3-foot aerials of the City of Tacoma from 1950.<\/SPAN><\/P> Contact Info:<\/SPAN><\/P> GIS Team<\/SPAN><\/P> Email: GISteam@cityoftacoma.org<\/SPAN><\/P> Company: Fairchild Aerial Surveys, Inc.<\/SPAN><\/P> Flight Time: March, 1950<\/SPAN><\/P> Scale: 1\u201d = 833\u2019<\/SPAN><\/P> Project: C-15000<\/SPAN><\/P><\/DIV><\/DIV><\/DIV>",
"name": "Imagery/Tacoma_1950_3ft",
"description": " This dataset is a tile mosaic of 3-foot aerials of the City of Tacoma from 1950.<\/SPAN><\/P> Contact Info:<\/SPAN><\/P> GIS Team<\/SPAN><\/P> Email: GISteam@cityoftacoma.org<\/SPAN><\/P> Company: Fairchild Aerial Surveys, Inc.<\/SPAN><\/P> Flight Time: March, 1950<\/SPAN><\/P> Scale: 1\u201d = 833\u2019<\/SPAN><\/P> Project: C-15000<\/SPAN><\/P><\/DIV><\/DIV><\/DIV>",
"extent": {
"xmin": 1111999.446568,
"ymin": 652998.978719,
"xmax": 1187002.1465679996,
"ymax": 743000.4787189998,
"spatialReference": {
"wkid": 2927,
"latestWkid": 2927
}
},
"initialExtent": {
"xmin": 1111999.446568,
"ymin": 652998.978719,
"xmax": 1187002.1465679996,
"ymax": 743000.4787189998,
"spatialReference": {
"wkid": 2927,
"latestWkid": 2927
}
},
"fullExtent": {
"xmin": 1111999.446568,
"ymin": 652998.978719,
"xmax": 1187002.1465679996,
"ymax": 743000.4787189998,
"spatialReference": {
"wkid": 2927,
"latestWkid": 2927
}
},
"sortableFields": "MinPS,MaxPS,LowPS,HighPS,CenterX,CenterY,ZOrder,Shape_Length,Shape_Area",
"bandCount": 1,
"pixelType": "U8",
"minValues": [
0
],
"maxValues": [
255
],
"meanValues": [
86.48239624392681
],
"stdvValues": [
60.62697001213162
],
"hasMultidimensions": false,
"pixelSizeX": 1.4499999999999946,
"pixelSizeY": 1.4499999999999962,
"meanPixelSize": 0.44196088392176647,
"datasetFormat": "AMD",
"uncompressedSize": 3210632820,
"blockWidth": 2048,
"blockHeight": 256,
"compressionType": "None",
"bandNames": [
"Band_1"
],
"allowCopy": true,
"allowAnalysis": true,
"itemAccess": false,
"inspectionCapabilities": "",
"minPixelSize": 0,
"maxPixelSize": 0,
"copyrightText": "City of Tacoma, IT GIS Team",
"serviceDataType": "esriImageServiceDataTypeGeneric",
"serviceSourceType": "esriImageServiceSourceTypeMosaicDataset",
"objectIdField": "OBJECTID",
"fields": [
{
"name": "OBJECTID",
"type": "esriFieldTypeOID",
"alias": "OBJECTID",
"domain": null
},
{
"name": "Shape",
"type": "esriFieldTypeGeometry",
"alias": "Shape",
"domain": null
},
{
"name": "Name",
"type": "esriFieldTypeString",
"alias": "Name",
"domain": null,
"length": 200
},
{
"name": "MinPS",
"type": "esriFieldTypeDouble",
"alias": "MinPS",
"domain": null
},
{
"name": "MaxPS",
"type": "esriFieldTypeDouble",
"alias": "MaxPS",
"domain": null
},
{
"name": "LowPS",
"type": "esriFieldTypeDouble",
"alias": "LowPS",
"domain": null
},
{
"name": "HighPS",
"type": "esriFieldTypeDouble",
"alias": "HighPS",
"domain": null
},
{
"name": "Category",
"type": "esriFieldTypeInteger",
"alias": "Category",
"domain": {
"type": "codedValue",
"name": "MosaicCatalogItemCategoryDomain",
"description": "Catalog item categories.",
"codedValues": [
{
"name": "Unknown",
"code": 0
},
{
"name": "Primary",
"code": 1
},
{
"name": "Overview",
"code": 2
},
{
"name": "Unprocessed Overview",
"code": 3
},
{
"name": "Partial Overview",
"code": 4
},
{
"name": "Inactive",
"code": 5
},
{
"name": "Uploaded",
"code": 253
},
{
"name": "Incomplete",
"code": 254
},
{
"name": "Custom",
"code": 255
}
],
"mergePolicy": "esriMPTDefaultValue",
"splitPolicy": "esriSPTDefaultValue"
}
},
{
"name": "Tag",
"type": "esriFieldTypeString",
"alias": "Tag",
"domain": null,
"length": 100
},
{
"name": "GroupName",
"type": "esriFieldTypeString",
"alias": "GroupName",
"domain": null,
"length": 100
},
{
"name": "ProductName",
"type": "esriFieldTypeString",
"alias": "ProductName",
"domain": null,
"length": 100
},
{
"name": "CenterX",
"type": "esriFieldTypeDouble",
"alias": "CenterX",
"domain": null
},
{
"name": "CenterY",
"type": "esriFieldTypeDouble",
"alias": "CenterY",
"domain": null
},
{
"name": "ZOrder",
"type": "esriFieldTypeInteger",
"alias": "ZOrder",
"domain": null
},
{
"name": "Shape_Length",
"type": "esriFieldTypeDouble",
"alias": "Shape_Length",
"domain": null
},
{
"name": "Shape_Area",
"type": "esriFieldTypeDouble",
"alias": "Shape_Area",
"domain": null
}
],
"capabilities": "Image,Metadata,Catalog",
"defaultMosaicMethod": "Northwest",
"allowedMosaicMethods": "NorthWest,Center,LockRaster,ByAttribute,Nadir,Viewpoint,Seamline,None",
"sortField": "",
"sortValue": null,
"sortAscending": true,
"mosaicOperator": "First",
"maxDownloadSizeLimit": 2048,
"defaultCompressionQuality": 75,
"defaultResamplingMethod": "Nearest",
"maxImageHeight": 4100,
"maxImageWidth": 15000,
"maxRecordCount": 1000,
"maxDownloadImageCount": 20,
"maxMosaicImageCount": 50,
"allowRasterFunction": true,
"rasterFunctionInfos": [
{
"name": "None",
"description": "",
"help": ""
}
],
"rasterTypeInfos": [
{
"name": "Raster Dataset",
"description": "Supports all ArcGIS Raster Datasets",
"help": ""
}
],
"mensurationCapabilities": "None",
"hasHistograms": true,
"hasColormap": false,
"hasRasterAttributeTable": false,
"minScale": 0,
"maxScale": 0,
"exportTilesAllowed": false,
"supportsStatistics": true,
"supportsAdvancedQueries": true,
"editFieldsInfo": null,
"ownershipBasedAccessControlForRasters": null,
"allowComputeTiePoints": false,
"useStandardizedQueries": true,
"advancedQueryCapabilities": {
"useStandardizedQueries": true,
"supportsStatistics": true,
"supportsOrderBy": true,
"supportsDistinct": true,
"supportsPagination": true
},
"spatialReference": {
"wkid": 2927,
"latestWkid": 2927
}
}