{ "currentVersion": 11.3, "serviceDescription": "
This is a mosaic dataset of 4-inch aerials of the City of Tacoma from 2012.<\/SPAN><\/P> Contact Info: <\/SPAN><\/SPAN><\/P> GIS Team<\/SPAN><\/P> GISteam@cityoftacoma.org<\/SPAN><\/P> <\/P> Company: Pictometry International Corp.<\/SPAN><\/P> Title: WA City of Tacoma 2012 Accuplus Project<\/SPAN><\/P> Flight Height: 3,500 feet<\/SPAN><\/P> Flight Date: Between May 6th, 2012 and May 7th, 2012<\/SPAN><\/P> <\/P> Dataset is orthoimagery. Logical consistency is not applicable.<\/SPAN><\/P> The 2012 City of Tacoma, WA Orthogonal data associated with this metadata file completely covers the project-specified boundary.<\/SPAN><\/P> <\/P> GPS/INS processing: Data was post-processed using NGS CORS base station data.<\/SPAN><\/P> AeroTriangulation: Imagery was aerotriangulated using Inpho's Match-AT software.<\/SPAN><\/P> Rectification: Ortho-rectification was performed using Inpho's OrthoMaster software. A LiDAR based DEM was used as the rectification surface.<\/SPAN><\/P> Mosaicing: Mosaiking was performed using Inpho's OrthoVista software and SeamEditor was employed for manual corrections.<\/SPAN><\/P><\/DIV> <\/P><\/DIV><\/DIV><\/DIV>",
"name": "Imagery/Tacoma_2012_4in",
"description": " This is a mosaic dataset of 4-inch aerials of the City of Tacoma from 2012.<\/SPAN><\/P> Contact Info: <\/SPAN><\/SPAN><\/P> GIS Team<\/SPAN><\/P> GISteam@cityoftacoma.org<\/SPAN><\/P> <\/P> Company: Pictometry International Corp.<\/SPAN><\/P> Title: WA City of Tacoma 2012 Accuplus Project<\/SPAN><\/P> Flight Height: 3,500 feet<\/SPAN><\/P> Flight Date: Between May 6th, 2012 and May 7th, 2012<\/SPAN><\/P> <\/P> Dataset is orthoimagery. Logical consistency is not applicable.<\/SPAN><\/P> The 2012 City of Tacoma, WA Orthogonal data associated with this metadata file completely covers the project-specified boundary.<\/SPAN><\/P> <\/P> GPS/INS processing: Data was post-processed using NGS CORS base station data.<\/SPAN><\/P> AeroTriangulation: Imagery was aerotriangulated using Inpho's Match-AT software.<\/SPAN><\/P> Rectification: Ortho-rectification was performed using Inpho's OrthoMaster software. A LiDAR based DEM was used as the rectification surface.<\/SPAN><\/P> Mosaicing: Mosaiking was performed using Inpho's OrthoVista software and SeamEditor was employed for manual corrections.<\/SPAN><\/P><\/DIV> <\/P><\/DIV><\/DIV><\/DIV>",
"extent": {
"xmin": 1127000,
"ymin": 671000,
"xmax": 1184000,
"ymax": 731000,
"spatialReference": {
"wkid": 2927,
"latestWkid": 2927
}
},
"initialExtent": {
"xmin": 1127000,
"ymin": 671000,
"xmax": 1184000,
"ymax": 731000,
"spatialReference": {
"wkid": 2927,
"latestWkid": 2927
}
},
"fullExtent": {
"xmin": 1127000,
"ymin": 671000,
"xmax": 1184000,
"ymax": 731000,
"spatialReference": {
"wkid": 2927,
"latestWkid": 2927
}
},
"sortableFields": "MinPS,MaxPS,LowPS,HighPS,CenterX,CenterY,ZOrder,Shape_Length,Shape_Area",
"bandCount": 3,
"pixelType": "U8",
"minValues": [
9,
17,
34
],
"maxValues": [
255,
255,
255
],
"meanValues": [
137.82356166499133,
148.5511483512217,
132.72547069271653
],
"stdvValues": [
37.25582334066037,
30.267779923887367,
30.504790780605024
],
"hasMultidimensions": false,
"pixelSizeX": 0.32,
"pixelSizeY": 0.32,
"meanPixelSize": 0.09753619507239016,
"datasetFormat": "AMD",
"uncompressedSize": 100195312500,
"blockWidth": 2048,
"blockHeight": 256,
"compressionType": "None",
"bandNames": [
"Band_1",
"Band_2",
"Band_3"
],
"allowCopy": true,
"allowAnalysis": true,
"itemAccess": false,
"inspectionCapabilities": "",
"minPixelSize": 0,
"maxPixelSize": 0,
"copyrightText": "City of Tacoma, GIS Team",
"serviceDataType": "esriImageServiceDataTypeRGB",
"serviceSourceType": "esriImageServiceSourceTypeMosaicDataset",
"objectIdField": "OBJECTID",
"fields": [
{
"name": "OBJECTID",
"type": "esriFieldTypeOID",
"alias": "OBJECTID",
"domain": null
},
{
"name": "Shape",
"type": "esriFieldTypeGeometry",
"alias": "Shape",
"domain": null
},
{
"name": "Name",
"type": "esriFieldTypeString",
"alias": "Name",
"domain": null,
"length": 200
},
{
"name": "MinPS",
"type": "esriFieldTypeDouble",
"alias": "MinPS",
"domain": null
},
{
"name": "MaxPS",
"type": "esriFieldTypeDouble",
"alias": "MaxPS",
"domain": null
},
{
"name": "LowPS",
"type": "esriFieldTypeDouble",
"alias": "LowPS",
"domain": null
},
{
"name": "HighPS",
"type": "esriFieldTypeDouble",
"alias": "HighPS",
"domain": null
},
{
"name": "Category",
"type": "esriFieldTypeInteger",
"alias": "Category",
"domain": {
"type": "codedValue",
"name": "MosaicCatalogItemCategoryDomain",
"description": "Catalog item categories.",
"codedValues": [
{
"name": "Unknown",
"code": 0
},
{
"name": "Primary",
"code": 1
},
{
"name": "Overview",
"code": 2
},
{
"name": "Unprocessed Overview",
"code": 3
},
{
"name": "Partial Overview",
"code": 4
},
{
"name": "Inactive",
"code": 5
},
{
"name": "Uploaded",
"code": 253
},
{
"name": "Incomplete",
"code": 254
},
{
"name": "Custom",
"code": 255
}
],
"mergePolicy": "esriMPTDefaultValue",
"splitPolicy": "esriSPTDefaultValue"
}
},
{
"name": "Tag",
"type": "esriFieldTypeString",
"alias": "Tag",
"domain": null,
"length": 100
},
{
"name": "GroupName",
"type": "esriFieldTypeString",
"alias": "GroupName",
"domain": null,
"length": 100
},
{
"name": "ProductName",
"type": "esriFieldTypeString",
"alias": "ProductName",
"domain": null,
"length": 100
},
{
"name": "CenterX",
"type": "esriFieldTypeDouble",
"alias": "CenterX",
"domain": null
},
{
"name": "CenterY",
"type": "esriFieldTypeDouble",
"alias": "CenterY",
"domain": null
},
{
"name": "ZOrder",
"type": "esriFieldTypeInteger",
"alias": "ZOrder",
"domain": null
},
{
"name": "Shape_Length",
"type": "esriFieldTypeDouble",
"alias": "Shape_Length",
"domain": null
},
{
"name": "Shape_Area",
"type": "esriFieldTypeDouble",
"alias": "Shape_Area",
"domain": null
}
],
"capabilities": "Image,Metadata,Catalog",
"defaultMosaicMethod": "Northwest",
"allowedMosaicMethods": "NorthWest,Center,LockRaster,ByAttribute,Nadir,Viewpoint,Seamline,None",
"sortField": "",
"sortValue": null,
"sortAscending": true,
"mosaicOperator": "First",
"maxDownloadSizeLimit": 2048,
"defaultCompressionQuality": 75,
"defaultResamplingMethod": "Nearest",
"maxImageHeight": 4100,
"maxImageWidth": 15000,
"maxRecordCount": 1000,
"maxDownloadImageCount": 20,
"maxMosaicImageCount": 20,
"allowRasterFunction": true,
"rasterFunctionInfos": [
{
"name": "None",
"description": "",
"help": ""
}
],
"rasterTypeInfos": [
{
"name": "Raster Dataset",
"description": "Supports all ArcGIS Raster Datasets",
"help": ""
}
],
"mensurationCapabilities": "None",
"hasHistograms": true,
"hasColormap": false,
"hasRasterAttributeTable": false,
"minScale": 0,
"maxScale": 0,
"exportTilesAllowed": false,
"supportsStatistics": true,
"supportsAdvancedQueries": true,
"editFieldsInfo": null,
"ownershipBasedAccessControlForRasters": null,
"allowComputeTiePoints": false,
"useStandardizedQueries": true,
"advancedQueryCapabilities": {
"useStandardizedQueries": true,
"supportsStatistics": true,
"supportsOrderBy": true,
"supportsDistinct": true,
"supportsPagination": true
},
"spatialReference": {
"wkid": 2927,
"latestWkid": 2927
}
}