{ "currentVersion": 11.3, "serviceDescription": "
Tacoma 2015 - 3 inch Aerial Photography. Includes Fife, part of Milton and University Place.<\/SPAN><\/P> Contact Info: <\/SPAN><\/SPAN><\/P> GIS Team<\/SPAN><\/P> Email: GISteam@cityoftacoma.org<\/SPAN><\/SPAN><\/P> <\/P> Company: GeoTerra, Inc.<\/SPAN><\/P> Flight Time Date Range:<\/SPAN><\/P> Beginning Date: 03/26/2015<\/SPAN><\/P> Ending Date: 06/07/2015<\/SPAN><\/P> <\/P> Detailed Metadata:<\/SPAN><\/P> \\\\tpucohesity\\bigdatasets\\2015\\Documentation\\3inch\\2015_KingCo_3inch_RGB_metadata_fgdc_classic.htm<\/SPAN><\/P> Frequently Anticipated Questions:<\/SPAN><\/P> \\\\tpucohesity\\bigdatasets\\2015\\Documentation\\3inch\\2015_KingCo_3inch_RGB_metadata_fgdc_faq.htm<\/SPAN><\/P> <\/P><\/DIV><\/DIV><\/DIV>",
"name": "Imagery/Tacoma_2015_3in",
"description": " Tacoma 2015 - 3 inch Aerial Photography. Includes Fife, part of Milton and University Place.<\/SPAN><\/P> Contact Info: <\/SPAN><\/SPAN><\/P> GIS Team<\/SPAN><\/P> Email: GISteam@cityoftacoma.org<\/SPAN><\/SPAN><\/P> <\/P> Company: GeoTerra, Inc.<\/SPAN><\/P> Flight Time Date Range:<\/SPAN><\/P> Beginning Date: 03/26/2015<\/SPAN><\/P> Ending Date: 06/07/2015<\/SPAN><\/P> <\/P> Detailed Metadata:<\/SPAN><\/P> \\\\tpucohesity\\bigdatasets\\2015\\Documentation\\3inch\\2015_KingCo_3inch_RGB_metadata_fgdc_classic.htm<\/SPAN><\/P> Frequently Anticipated Questions:<\/SPAN><\/P> \\\\tpucohesity\\bigdatasets\\2015\\Documentation\\3inch\\2015_KingCo_3inch_RGB_metadata_fgdc_faq.htm<\/SPAN><\/P> <\/P><\/DIV><\/DIV><\/DIV>",
"extent": {
"xmin": 1126246.6185424775,
"ymin": 672510.7809020579,
"xmax": 1192218.3685424775,
"ymax": 732639.0309020579,
"spatialReference": {
"wkid": 2927,
"latestWkid": 2927
}
},
"initialExtent": {
"xmin": 1126246.6185424775,
"ymin": 672510.7809020579,
"xmax": 1192218.3685424775,
"ymax": 732639.0309020579,
"spatialReference": {
"wkid": 2927,
"latestWkid": 2927
}
},
"fullExtent": {
"xmin": 1126246.6185424775,
"ymin": 672510.7809020579,
"xmax": 1192218.3685424775,
"ymax": 732639.0309020579,
"spatialReference": {
"wkid": 2927,
"latestWkid": 2927
}
},
"sortableFields": "MinPS,MaxPS,LowPS,HighPS,CenterX,CenterY,ZOrder,Shape_Length,Shape_Area",
"bandCount": 3,
"pixelType": "U8",
"minValues": [
0,
0,
0
],
"maxValues": [
255,
255,
255
],
"meanValues": [
94.14259682357002,
98.7899552689931,
94.6626847943029
],
"stdvValues": [
51.375794656163045,
44.334330199243986,
40.15067143264603
],
"hasMultidimensions": false,
"pixelSizeX": 0.25,
"pixelSizeY": 0.25,
"meanPixelSize": 0.07620015240030481,
"datasetFormat": "AMD",
"uncompressedSize": 190404762093,
"blockWidth": 2048,
"blockHeight": 256,
"compressionType": "None",
"bandNames": [
"Band_1",
"Band_2",
"Band_3"
],
"allowCopy": true,
"allowAnalysis": true,
"itemAccess": false,
"inspectionCapabilities": "",
"minPixelSize": 0,
"maxPixelSize": 0,
"copyrightText": "City of Tacoma, IT GIS Team",
"serviceDataType": "esriImageServiceDataTypeRGB",
"serviceSourceType": "esriImageServiceSourceTypeMosaicDataset",
"objectIdField": "OBJECTID",
"fields": [
{
"name": "OBJECTID",
"type": "esriFieldTypeOID",
"alias": "OBJECTID",
"domain": null
},
{
"name": "Shape",
"type": "esriFieldTypeGeometry",
"alias": "Shape",
"domain": null
},
{
"name": "Name",
"type": "esriFieldTypeString",
"alias": "Name",
"domain": null,
"length": 200
},
{
"name": "MinPS",
"type": "esriFieldTypeDouble",
"alias": "MinPS",
"domain": null
},
{
"name": "MaxPS",
"type": "esriFieldTypeDouble",
"alias": "MaxPS",
"domain": null
},
{
"name": "LowPS",
"type": "esriFieldTypeDouble",
"alias": "LowPS",
"domain": null
},
{
"name": "HighPS",
"type": "esriFieldTypeDouble",
"alias": "HighPS",
"domain": null
},
{
"name": "Category",
"type": "esriFieldTypeInteger",
"alias": "Category",
"domain": {
"type": "codedValue",
"name": "MosaicCatalogItemCategoryDomain",
"description": "Catalog item categories.",
"codedValues": [
{
"name": "Unknown",
"code": 0
},
{
"name": "Primary",
"code": 1
},
{
"name": "Overview",
"code": 2
},
{
"name": "Unprocessed Overview",
"code": 3
},
{
"name": "Partial Overview",
"code": 4
},
{
"name": "Inactive",
"code": 5
},
{
"name": "Uploaded",
"code": 253
},
{
"name": "Incomplete",
"code": 254
},
{
"name": "Custom",
"code": 255
}
],
"mergePolicy": "esriMPTDefaultValue",
"splitPolicy": "esriSPTDefaultValue"
}
},
{
"name": "Tag",
"type": "esriFieldTypeString",
"alias": "Tag",
"domain": null,
"length": 100
},
{
"name": "GroupName",
"type": "esriFieldTypeString",
"alias": "GroupName",
"domain": null,
"length": 100
},
{
"name": "ProductName",
"type": "esriFieldTypeString",
"alias": "ProductName",
"domain": null,
"length": 100
},
{
"name": "CenterX",
"type": "esriFieldTypeDouble",
"alias": "CenterX",
"domain": null
},
{
"name": "CenterY",
"type": "esriFieldTypeDouble",
"alias": "CenterY",
"domain": null
},
{
"name": "ZOrder",
"type": "esriFieldTypeInteger",
"alias": "ZOrder",
"domain": null
},
{
"name": "Shape_Length",
"type": "esriFieldTypeDouble",
"alias": "Shape_Length",
"domain": null
},
{
"name": "Shape_Area",
"type": "esriFieldTypeDouble",
"alias": "Shape_Area",
"domain": null
}
],
"capabilities": "Image,Metadata,Catalog",
"defaultMosaicMethod": "Northwest",
"allowedMosaicMethods": "NorthWest,Center,LockRaster,ByAttribute,Nadir,Viewpoint,Seamline,None",
"sortField": "",
"sortValue": null,
"sortAscending": true,
"mosaicOperator": "First",
"maxDownloadSizeLimit": 2048,
"defaultCompressionQuality": 75,
"defaultResamplingMethod": "Nearest",
"maxImageHeight": 4100,
"maxImageWidth": 15000,
"maxRecordCount": 1000,
"maxDownloadImageCount": 20,
"maxMosaicImageCount": 20,
"allowRasterFunction": true,
"rasterFunctionInfos": [
{
"name": "None",
"description": "",
"help": ""
}
],
"rasterTypeInfos": [
{
"name": "Raster Dataset",
"description": "Supports all ArcGIS Raster Datasets",
"help": ""
}
],
"mensurationCapabilities": "None",
"hasHistograms": true,
"hasColormap": false,
"hasRasterAttributeTable": false,
"minScale": 0,
"maxScale": 0,
"exportTilesAllowed": false,
"supportsStatistics": true,
"supportsAdvancedQueries": true,
"editFieldsInfo": null,
"ownershipBasedAccessControlForRasters": null,
"allowComputeTiePoints": false,
"useStandardizedQueries": true,
"advancedQueryCapabilities": {
"useStandardizedQueries": true,
"supportsStatistics": true,
"supportsOrderBy": true,
"supportsDistinct": true,
"supportsPagination": true
},
"spatialReference": {
"wkid": 2927,
"latestWkid": 2927
}
}