{ "currentVersion": 11.3, "serviceDescription": "
This dataset represents a tiled, true-color and near-infrared orthophoto mosaic (4-band) of the City of Tacoma study area located in Pierce County, WA. The data is projected in WA State Plane South, the horizontal datum is NAD83(HARN) and units are US survey feet. The acquisition flight parameters were designed to yield a native pixel resolution of less than or equal to 0.25 ft. The Orthoimagery data was collected on 08/09/2024 and 08/15/2024 for Washington DNR.<\/SPAN><\/P><\/DIV><\/DIV><\/DIV>",
"name": "Imagery/Tacoma_2024_3in",
"description": " This dataset represents a tiled, true-color and near-infrared orthophoto mosaic (4-band) of the City of Tacoma study area located in Pierce County, WA. The data is projected in WA State Plane South, the horizontal datum is NAD83(HARN) and units are US survey feet. The acquisition flight parameters were designed to yield a native pixel resolution of less than or equal to 0.25 ft. The Orthoimagery data was collected on 08/09/2024 and 08/15/2024 for Washington DNR.<\/SPAN><\/P><\/DIV><\/DIV><\/DIV>",
"extent": {
"xmin": 1126782.000017643,
"ymin": 673030.4999484718,
"xmax": 1183024.250017643,
"ymax": 732203.7499484718,
"spatialReference": {
"wkid": 2927,
"latestWkid": 2927
}
},
"initialExtent": {
"xmin": 1126782.000017643,
"ymin": 673030.4999484718,
"xmax": 1183024.250017643,
"ymax": 732203.7499484718,
"spatialReference": {
"wkid": 2927,
"latestWkid": 2927
}
},
"fullExtent": {
"xmin": 1126782.000017643,
"ymin": 673030.4999484718,
"xmax": 1183024.250017643,
"ymax": 732203.7499484718,
"spatialReference": {
"wkid": 2927,
"latestWkid": 2927
}
},
"sortableFields": "MinPS,MaxPS,LowPS,HighPS,CenterX,CenterY,ZOrder,Shape_Length,Shape_Area",
"bandCount": 4,
"pixelType": "U8",
"minValues": [
1,
10,
29,
1
],
"maxValues": [
250,
250,
245,
251
],
"meanValues": [
100.82644073395446,
107.26630670647145,
100.59422248070409,
140.57944045106794
],
"stdvValues": [
36.435831344872874,
30.69229810964023,
27.977730318593785,
42.45658442388508
],
"hasMultidimensions": false,
"pixelSizeX": 0.25,
"pixelSizeY": 0.25,
"meanPixelSize": 0.07620015240030481,
"datasetFormat": "AMD",
"uncompressedSize": 212994350068,
"blockWidth": 2048,
"blockHeight": 256,
"compressionType": "None",
"bandNames": [
"Band_1",
"Band_2",
"Band_3",
"Band_4"
],
"allowCopy": true,
"allowAnalysis": true,
"itemAccess": false,
"inspectionCapabilities": "",
"noDataValue": 256,
"noDataValues": [
256,
256,
256,
256
],
"minPixelSize": 0,
"maxPixelSize": 0,
"copyrightText": "City of Tacoma, Environmental Services, Washington DNR",
"serviceDataType": "esriImageServiceDataTypeGeneric",
"serviceSourceType": "esriImageServiceSourceTypeMosaicDataset",
"objectIdField": "OBJECTID",
"fields": [
{
"name": "OBJECTID",
"type": "esriFieldTypeOID",
"alias": "OBJECTID",
"domain": null
},
{
"name": "Shape",
"type": "esriFieldTypeGeometry",
"alias": "Shape",
"domain": null
},
{
"name": "Name",
"type": "esriFieldTypeString",
"alias": "Name",
"domain": null,
"length": 200
},
{
"name": "MinPS",
"type": "esriFieldTypeDouble",
"alias": "MinPS",
"domain": null
},
{
"name": "MaxPS",
"type": "esriFieldTypeDouble",
"alias": "MaxPS",
"domain": null
},
{
"name": "LowPS",
"type": "esriFieldTypeDouble",
"alias": "LowPS",
"domain": null
},
{
"name": "HighPS",
"type": "esriFieldTypeDouble",
"alias": "HighPS",
"domain": null
},
{
"name": "Category",
"type": "esriFieldTypeInteger",
"alias": "Category",
"domain": {
"type": "codedValue",
"name": "MosaicCatalogItemCategoryDomain",
"description": "Catalog item categories.",
"codedValues": [
{
"name": "Unknown",
"code": 0
},
{
"name": "Primary",
"code": 1
},
{
"name": "Overview",
"code": 2
},
{
"name": "Unprocessed Overview",
"code": 3
},
{
"name": "Partial Overview",
"code": 4
},
{
"name": "Inactive",
"code": 5
},
{
"name": "Uploaded",
"code": 253
},
{
"name": "Incomplete",
"code": 254
},
{
"name": "Custom",
"code": 255
}
],
"mergePolicy": "esriMPTDefaultValue",
"splitPolicy": "esriSPTDefaultValue"
}
},
{
"name": "Tag",
"type": "esriFieldTypeString",
"alias": "Tag",
"domain": null,
"length": 100
},
{
"name": "GroupName",
"type": "esriFieldTypeString",
"alias": "GroupName",
"domain": null,
"length": 100
},
{
"name": "ProductName",
"type": "esriFieldTypeString",
"alias": "ProductName",
"domain": null,
"length": 100
},
{
"name": "CenterX",
"type": "esriFieldTypeDouble",
"alias": "CenterX",
"domain": null
},
{
"name": "CenterY",
"type": "esriFieldTypeDouble",
"alias": "CenterY",
"domain": null
},
{
"name": "ZOrder",
"type": "esriFieldTypeInteger",
"alias": "ZOrder",
"domain": null
},
{
"name": "Shape_Length",
"type": "esriFieldTypeDouble",
"alias": "Shape_Length",
"domain": null
},
{
"name": "Shape_Area",
"type": "esriFieldTypeDouble",
"alias": "Shape_Area",
"domain": null
}
],
"capabilities": "Image,Metadata,Catalog",
"defaultMosaicMethod": "Northwest",
"allowedMosaicMethods": "NorthWest,Center,LockRaster,ByAttribute,Nadir,Viewpoint,Seamline,None",
"sortField": "",
"sortValue": null,
"sortAscending": true,
"mosaicOperator": "First",
"maxDownloadSizeLimit": 2048,
"defaultCompressionQuality": 75,
"defaultResamplingMethod": "Bilinear",
"maxImageHeight": 4100,
"maxImageWidth": 15000,
"maxRecordCount": 1000,
"maxDownloadImageCount": 20,
"maxMosaicImageCount": 20,
"allowRasterFunction": true,
"rasterFunctionInfos": [
{
"name": "None",
"description": "",
"help": ""
}
],
"rasterTypeInfos": [
{
"name": "Raster Dataset",
"description": "Supports all ArcGIS Raster Datasets",
"help": ""
}
],
"mensurationCapabilities": "None",
"hasHistograms": true,
"hasColormap": false,
"hasRasterAttributeTable": false,
"minScale": 0,
"maxScale": 0,
"exportTilesAllowed": false,
"supportsStatistics": true,
"supportsAdvancedQueries": true,
"editFieldsInfo": null,
"ownershipBasedAccessControlForRasters": null,
"allowComputeTiePoints": false,
"useStandardizedQueries": true,
"advancedQueryCapabilities": {
"useStandardizedQueries": true,
"supportsStatistics": true,
"supportsOrderBy": true,
"supportsDistinct": true,
"supportsPagination": true
},
"spatialReference": {
"wkid": 2927,
"latestWkid": 2927
}
}