{
 "currentVersion": 11.3,
 "serviceDescription": "LandCover/LandCoverAllClass_2017",
 "name": "LandCover/LandCoverAllClass_2017",
 "description": "",
 "extent": {
  "xmin": 1127536.5135942942,
  "ymin": 673798.8994771641,
  "xmax": 1182168.950260961,
  "ymax": 730744.3236438308,
  "spatialReference": {
   "wkid": 2927,
   "latestWkid": 2927
  }
 },
 "initialExtent": {
  "xmin": 1127536.5135942942,
  "ymin": 673798.8994771641,
  "xmax": 1182168.950260961,
  "ymax": 730744.3236438308,
  "spatialReference": {
   "wkid": 2927,
   "latestWkid": 2927
  }
 },
 "fullExtent": {
  "xmin": 1127536.5135942942,
  "ymin": 673798.8994771641,
  "xmax": 1182168.950260961,
  "ymax": 730744.3236438308,
  "spatialReference": {
   "wkid": 2927,
   "latestWkid": 2927
  }
 },
 "sortableFields": "",
 "bandCount": 1,
 "pixelType": "U8",
 "minValues": [
  1
 ],
 "maxValues": [
  50
 ],
 "meanValues": [
  22.789090758946298
 ],
 "stdvValues": [
  15.456650521427571
 ],
 "hasMultidimensions": false,
 "pixelSizeX": 3.280833333333339,
 "pixelSizeY": 3.280833333333335,
 "meanPixelSize": 1.0000000000000013,
 "datasetFormat": "FGDBR",
 "uncompressedSize": 289028764,
 "blockWidth": 128,
 "blockHeight": 128,
 "compressionType": "LZ77",
 "bandNames": [
  "Band_1"
 ],
 "allowCopy": true,
 "allowAnalysis": true,
 "itemAccess": false,
 "inspectionCapabilities": "",
 "minPixelSize": 0,
 "maxPixelSize": 0,
 "copyrightText": "",
 "serviceDataType": "esriImageServiceDataTypeGeneric",
 "serviceSourceType": "esriImageServiceSourceTypeDataset",
 "objectIdField": "",
 "fields": [],
 "capabilities": "Image,Metadata,Mensuration",
 "defaultMosaicMethod": "Center",
 "allowedMosaicMethods": "",
 "sortField": "",
 "sortValue": null,
 "sortAscending": true,
 "mosaicOperator": "First",
 "defaultCompressionQuality": 75,
 "defaultResamplingMethod": "Bilinear",
 "maxImageHeight": 4100,
 "maxImageWidth": 15000,
 "allowRasterFunction": true,
 "rasterFunctionInfos": [
  {
   "name": "None",
   "description": "",
   "help": ""
  }
 ],
 "rasterTypeInfos": [
  {
   "name": "Raster Dataset",
   "description": "Supports all ArcGIS Raster Datasets",
   "help": ""
  }
 ],
 "mensurationCapabilities": "Basic",
 "hasHistograms": true,
 "hasColormap": false,
 "hasRasterAttributeTable": true,
 "minScale": 0,
 "maxScale": 0,
 "exportTilesAllowed": false,
 "supportsStatistics": false,
 "supportsAdvancedQueries": false,
 "editFieldsInfo": null,
 "ownershipBasedAccessControlForRasters": null,
 "allowComputeTiePoints": false,
 "useStandardizedQueries": true,
 "advancedQueryCapabilities": {
  "useStandardizedQueries": true,
  "supportsStatistics": false,
  "supportsOrderBy": false,
  "supportsDistinct": false,
  "supportsPagination": false
 },
 "spatialReference": {
  "wkid": 2927,
  "latestWkid": 2927
 }
}
