{ "currentVersion": 11.3, "serviceDescription": "
City of Tacoma 2024 Lidar<\/span><\/p> The purpose of the lidar data was to produce a high accuracy 3D dataset that meets all necessary standards laid out by the 3D Elevation Program and the City of Tacoma Lidar contract. The lidar point cloud data were used to create classified lidar LAS files, intensity images, hydro-flattened DEMs, highest hit surface models, 3D building footprints, Canopy Cover Models, Solar Exposure models, Ray Traced RGBIR Images, and 3D breaklines of rivers and lakes within the study area.<\/p> Product<\/span>: Hydroflattened Digital Elevation Model (DEM) data covering the City of Tacoma 2024 Lidar project area. City of Tacoma 2024 Lidar<\/span><\/p> The purpose of the lidar data was to produce a high accuracy 3D dataset that meets all necessary standards laid out by the 3D Elevation Program and the City of Tacoma Lidar contract. The lidar point cloud data were used to create classified lidar LAS files, intensity images, hydro-flattened DEMs, highest hit surface models, 3D building footprints, Canopy Cover Models, Solar Exposure models, Ray Traced RGBIR Images, and 3D breaklines of rivers and lakes within the study area.<\/p> Product<\/span>: Hydroflattened Digital Elevation Model (DEM) data covering the City of Tacoma 2024 Lidar project area.
Geographic Extent<\/span>: This dataset and derived products encompass an area covering approximately 43,613 acres of Western Washington.
Dataset Description<\/span>: Lidar flight line swaths were processed to create 445 classified LAS 1.4 files delineated in 2250ft x 2250ft tiles. Each LAS file contains lidar point information, which has been calibrated, controlled, and classified. All permanent building structures exceeding 200 square feet were initially classified in the point cloud and then extracted using proprietary methods. Additional products include classified LAS files, intensity images, Hydroflattened DEMs, and highest hit surface models, 3D building footprints, Canopy Cover Models, Solar Exposure models, Ray Traced RGBIR Images.
Ground Conditions<\/span>: Ground condition was free of snow and acquisition occurred free of smoke, fog and cloud cover.
Contractor<\/span>: NV5 Ground Control Points were acquired and calibrated by NV5. Data acquisition was coordinated by NV5 and all lidar data calibration, and follow-on processing were completed by NV5.
Elevation Units<\/span>: U.S. Feet<\/p>",
"name": "Lidar/Tacoma_2024_BareEarth",
"description": "
Geographic Extent<\/span>: This dataset and derived products encompass an area covering approximately 43,613 acres of Western Washington.
Dataset Description<\/span>: Lidar flight line swaths were processed to create 445 classified LAS 1.4 files delineated in 2250ft x 2250ft tiles. Each LAS file contains lidar point information, which has been calibrated, controlled, and classified. All permanent building structures exceeding 200 square feet were initially classified in the point cloud and then extracted using proprietary methods. Additional products include classified LAS files, intensity images, Hydroflattened DEMs, and highest hit surface models, 3D building footprints, Canopy Cover Models, Solar Exposure models, Ray Traced RGBIR Images.
Ground Conditions<\/span>: Ground condition was free of snow and acquisition occurred free of smoke, fog and cloud cover.
Contractor<\/span>: NV5 Ground Control Points were acquired and calibrated by NV5. Data acquisition was coordinated by NV5 and all lidar data calibration, and follow-on processing were completed by NV5.
Elevation Units<\/span>: U.S. Feet<\/p>",
"extent": {
"xmin": 1128336,
"ymin": 674578.5,
"xmax": 1181478,
"ymax": 730603.5,
"spatialReference": {
"wkid": 2927,
"latestWkid": 2927
}
},
"initialExtent": {
"xmin": 1128336,
"ymin": 674578.5,
"xmax": 1181478,
"ymax": 730603.5,
"spatialReference": {
"wkid": 2927,
"latestWkid": 2927
}
},
"fullExtent": {
"xmin": 1128336,
"ymin": 674578.5,
"xmax": 1181478,
"ymax": 730603.5,
"spatialReference": {
"wkid": 2927,
"latestWkid": 2927
}
},
"sortableFields": "MinPS,MaxPS,LowPS,HighPS,CenterX,CenterY,ZOrder,Shape_Length,Shape_Area",
"bandCount": 1,
"pixelType": "F32",
"minValues": [
-4.6111345291137695
],
"maxValues": [
557.3665771484375
],
"meanValues": [
269.34845556238963
],
"stdvValues": [
132.63374820554577
],
"hasMultidimensions": false,
"pixelSizeX": 1.5,
"pixelSizeY": 1.5,
"meanPixelSize": 0.45720091440182886,
"datasetFormat": "FGDBR",
"uncompressedSize": 5292943200,
"blockWidth": 128,
"blockHeight": 128,
"compressionType": "LZ77",
"bandNames": [
"Band_1"
],
"allowCopy": true,
"allowAnalysis": true,
"itemAccess": false,
"inspectionCapabilities": "",
"minPixelSize": 0,
"maxPixelSize": 0,
"copyrightText": "City of Tacoma, Environmental Services",
"serviceDataType": "esriImageServiceDataTypeGeneric",
"serviceSourceType": "esriImageServiceSourceTypeDataset",
"objectIdField": "",
"fields": [],
"capabilities": "Catalog,Pixels,Image,Metadata",
"defaultMosaicMethod": "Northwest",
"allowedMosaicMethods": "NorthWest,Center,LockRaster,ByAttribute,Nadir,Viewpoint,Seamline,None",
"sortField": "",
"sortValue": null,
"sortAscending": true,
"mosaicOperator": "First",
"maxDownloadSizeLimit": 2048,
"defaultCompressionQuality": 75,
"defaultResamplingMethod": "Bilinear",
"maxImageHeight": 4100,
"maxImageWidth": 15000,
"maxRecordCount": 1000,
"maxDownloadImageCount": 20,
"maxMosaicImageCount": 20,
"allowRasterFunction": true,
"rasterFunctionInfos": [
{
"name": "None",
"description": "",
"help": ""
}
],
"rasterTypeInfos": [
{
"name": "Raster Dataset",
"description": "Supports all ArcGIS Raster Datasets",
"help": ""
}
],
"mensurationCapabilities": "",
"hasHistograms": true,
"hasColormap": false,
"hasRasterAttributeTable": false,
"minScale": 0,
"maxScale": 0,
"exportTilesAllowed": false,
"supportsStatistics": false,
"supportsAdvancedQueries": false,
"editFieldsInfo": null,
"ownershipBasedAccessControlForRasters": null,
"allowComputeTiePoints": false,
"useStandardizedQueries": true,
"advancedQueryCapabilities": {
"useStandardizedQueries": true,
"supportsStatistics": false,
"supportsOrderBy": false,
"supportsDistinct": false,
"supportsPagination": false
},
"spatialReference": {
"wkid": 2927,
"latestWkid": 2927
}
}