View In:
ArcGIS JavaScript
ArcGIS Online Map Viewer
ArcGIS Earth
Service Description: This dataset is a tile mosaic of 1-foot aerials of Salishan from 2009.
Contact Info:
Name: GIS Team
Email: GISteam@cityoftacoma.org
Company: Digital Globe
Name: Imagery/Salishan_2009_1ft
Description: This dataset is a tile mosaic of 1-foot aerials of Salishan from 2009.
Contact Info:
Name: GIS Team
Email: GISteam@cityoftacoma.org
Company: Digital Globe
Single Fused Map Cache: false
Extent:
XMin: 1162093.1235393744
YMin: 688169.2455368947
XMax: 1169873.6197893743
YMax: 695937.9307868945
Spatial Reference: 2927
(2927)
LatestVCSWkid(0)
Initial Extent:
XMin: 1162093.1235393744
YMin: 688169.2455368947
XMax: 1169873.6197893743
YMax: 695937.9307868945
Spatial Reference: 2927
(2927)
LatestVCSWkid(0)
Full Extent:
XMin: 1162093.1235393744
YMin: 688169.2455368947
XMax: 1169873.6197893743
YMax: 695937.9307868945
Spatial Reference: 2927
(2927)
LatestVCSWkid(0)
Pixel Size X: 0.9842499999999812
Pixel Size Y: 0.9842499999999827
Band Count: 3
Pixel Type: U8
RasterFunction Infos: {"rasterFunctionInfos": [{
"name": "None",
"description": "",
"help": ""
}]}
Mensuration Capabilities: Basic
Inspection Capabilities:
Has Histograms: true
Has Colormap: false
Has Multi Dimensions : false
Rendering Rule:
Min Scale: 0
Max Scale: 0
Copyright Text: City of Tacoma, IT GIS Team
Service Data Type: esriImageServiceDataTypeRGB
Min Values: 0, 16, 46
Max Values: 255, 255, 253
Mean Values: 123.05536724671315, 144.98632268766542, 124.31943771505244
Standard Deviation Values: 60.30385350412896, 45.08115517885413, 38.30115835080595
Object ID Field: OBJECTID
Fields:
-
OBJECTID
(
type: esriFieldTypeOID, alias: OBJECTID
)
-
Shape
(
type: esriFieldTypeGeometry, alias: Shape
)
-
Name
(
type: esriFieldTypeString, alias: Name, length: 200
)
-
MinPS
(
type: esriFieldTypeDouble, alias: MinPS
)
-
MaxPS
(
type: esriFieldTypeDouble, alias: MaxPS
)
-
LowPS
(
type: esriFieldTypeDouble, alias: LowPS
)
-
HighPS
(
type: esriFieldTypeDouble, alias: HighPS
)
-
Category
(
type: esriFieldTypeInteger, alias: Category
,
Coded Values:
[0: Unknown]
,
[1: Primary]
,
[2: Overview]
, ...6 more...
)
-
Tag
(
type: esriFieldTypeString, alias: Tag, length: 100
)
-
GroupName
(
type: esriFieldTypeString, alias: GroupName, length: 100
)
-
ProductName
(
type: esriFieldTypeString, alias: ProductName, length: 100
)
-
CenterX
(
type: esriFieldTypeDouble, alias: CenterX
)
-
CenterY
(
type: esriFieldTypeDouble, alias: CenterY
)
-
ZOrder
(
type: esriFieldTypeInteger, alias: ZOrder
)
-
Shape_Length
(
type: esriFieldTypeDouble, alias: Shape_Length
)
-
Shape_Area
(
type: esriFieldTypeDouble, alias: Shape_Area
)
Default Mosaic Method: Northwest
Allowed Mosaic Methods: NorthWest,Center,LockRaster,ByAttribute,Nadir,Viewpoint,Seamline,None
SortField:
SortValue: null
Mosaic Operator: First
Default Compression Quality: 75
Default Resampling Method: Nearest
Max Record Count: 1000
Max Image Height: 4100
Max Image Width: 15000
Max Download Image Count: 20
Max Mosaic Image Count: 20
Allow Raster Function: true
Allow Copy: true
Allow Analysis: true
Allow Compute TiePoints: false
Supports Statistics: true
Supports Advanced Queries: true
Use StandardizedQueries: true
Raster Type Infos:
Name: Raster Dataset
Description: Supports all ArcGIS Raster Datasets
Help:
Has Raster Attribute Table: false
Edit Fields Info: null
Ownership Based AccessControl For Rasters: null
Child Resources:
Info
Histograms
Statistics
Key Properties
Legend
Raster Function Infos
Supported Operations:
Export Image
Query
Identify
Measure
Compute Histograms
Compute Statistics Histograms
Get Samples
Compute Class Statistics
Query GPS Info
Find Images
Image to Map
Map to Image
Measure from Image
Image to Map Multiray
Query Boundary
Compute Pixel Location
Compute Angles
Validate
Project