View In:
ArcGIS JavaScript
ArcGIS Online Map Viewer
ArcGIS Earth
Service Description: Water Service Area 2018 - 3 inch Aerial Photography
Contact Info:
Name: GIS Team
Email: GISteam@cityoftacoma.org
Company: Quantum Spatial, Inc.
Flight Time Date Range:
Beginning Date: 06/17/2018
Ending Date: 07/15/2018
Detailed Metadata:
\\tpucohesity\bigdatasets\2018\Documentation\TW Service Area Imagery Reports\Delivery 2 Reports\Tacoma_TWSA_FGDC_Metadata.xml
Name: Imagery/WaterServiceArea_2018_3in
Description: Water Service Area 2018 - 3 inch Aerial Photography
Contact Info:
Name: GIS Team
Email: GISteam@cityoftacoma.org
Company: Quantum Spatial, Inc.
Flight Time Date Range:
Beginning Date: 06/17/2018
Ending Date: 07/15/2018
Detailed Metadata:
\\tpucohesity\bigdatasets\2018\Documentation\TW Service Area Imagery Reports\Delivery 2 Reports\Tacoma_TWSA_FGDC_Metadata.xml
Single Fused Map Cache: false
Extent:
XMin: 1120428.0
YMin: 637207.0
XMax: 1333428.0
YMax: 737082.0
Spatial Reference: 2927
(2927)
LatestVCSWkid(0)
Initial Extent:
XMin: 1120428.0
YMin: 637207.0
XMax: 1333428.0
YMax: 737082.0
Spatial Reference: 2927
(2927)
LatestVCSWkid(0)
Full Extent:
XMin: 1120428.0
YMin: 637207.0
XMax: 1333428.0
YMax: 737082.0
Spatial Reference: 2927
(2927)
LatestVCSWkid(0)
Pixel Size X: 0.25
Pixel Size Y: 0.25
Band Count: 4
Pixel Type: U8
RasterFunction Infos: {"rasterFunctionInfos": [{
"name": "None",
"description": "",
"help": ""
}]}
Mensuration Capabilities: None
Inspection Capabilities:
Has Histograms: true
Has Colormap: false
Has Multi Dimensions : false
Rendering Rule:
Min Scale: 0
Max Scale: 0
Copyright Text: City of Tacoma, IT GIS Team
Service Data Type: esriImageServiceDataTypeGeneric
Min Values: 0, 8, 18, 0
Max Values: 255, 255, 255, 255
Mean Values: 102.00415741193419, 109.70342255087978, 111.130565831462, 113.13029252012223
Standard Deviation Values: 68.55086783723154, 63.38797727777488, 63.374995519372185, 60.59995755509912
Object ID Field: OBJECTID
Fields:
-
OBJECTID
(
type: esriFieldTypeOID, alias: OBJECTID
)
-
Shape
(
type: esriFieldTypeGeometry, alias: Shape
)
-
Name
(
type: esriFieldTypeString, alias: Name, length: 200
)
-
MinPS
(
type: esriFieldTypeDouble, alias: MinPS
)
-
MaxPS
(
type: esriFieldTypeDouble, alias: MaxPS
)
-
LowPS
(
type: esriFieldTypeDouble, alias: LowPS
)
-
HighPS
(
type: esriFieldTypeDouble, alias: HighPS
)
-
Category
(
type: esriFieldTypeInteger, alias: Category
,
Coded Values:
[0: Unknown]
,
[1: Primary]
,
[2: Overview]
, ...6 more...
)
-
Tag
(
type: esriFieldTypeString, alias: Tag, length: 100
)
-
GroupName
(
type: esriFieldTypeString, alias: GroupName, length: 100
)
-
ProductName
(
type: esriFieldTypeString, alias: ProductName, length: 100
)
-
CenterX
(
type: esriFieldTypeDouble, alias: CenterX
)
-
CenterY
(
type: esriFieldTypeDouble, alias: CenterY
)
-
ZOrder
(
type: esriFieldTypeInteger, alias: ZOrder
)
-
Shape_Length
(
type: esriFieldTypeDouble, alias: Shape_Length
)
-
Shape_Area
(
type: esriFieldTypeDouble, alias: Shape_Area
)
Default Mosaic Method: Northwest
Allowed Mosaic Methods: NorthWest,Center,LockRaster,ByAttribute,Nadir,Viewpoint,Seamline,None
SortField:
SortValue: null
Mosaic Operator: First
Default Compression Quality: 75
Default Resampling Method: Nearest
Max Record Count: 1000
Max Image Height: 4100
Max Image Width: 15000
Max Download Image Count: 20
Max Mosaic Image Count: 20
Allow Raster Function: true
Allow Copy: true
Allow Analysis: true
Allow Compute TiePoints: false
Supports Statistics: true
Supports Advanced Queries: true
Use StandardizedQueries: true
Raster Type Infos:
Name: Raster Dataset
Description: Supports all ArcGIS Raster Datasets
Help:
Has Raster Attribute Table: false
Edit Fields Info: null
Ownership Based AccessControl For Rasters: null
Child Resources:
Info
Histograms
Statistics
Key Properties
Legend
Raster Function Infos
Supported Operations:
Export Image
Query
Identify
Compute Histograms
Compute Statistics Histograms
Get Samples
Compute Class Statistics
Query GPS Info
Find Images
Image to Map
Map to Image
Measure from Image
Image to Map Multiray
Query Boundary
Compute Pixel Location
Compute Angles
Validate
Project