View In:
ArcGIS JavaScript
ArcGIS Online Map Viewer
ArcGIS Earth
Service Description: This is a tile mosaic composed of 3-foot aerial photographs of the Puyallup River in 1940.
Contact Info:
GIS Team
gisteam@cityoftacoma.org
Company: Army Corps of Engineers
Scale: Approx. 1:15,000
<a href="http://riverhistory.ess.washington.edu/index.html" target="_blank">Puget Sound River History Project - Version 1</a>
<a href="file:////fs005/Orthos/1940/Puget Sound River History Project.htm" target="_blank">Puget Sound River History Project - Version 2</a>
<a href="http://riverhistory.ess.washington.edu/duw_puy/photo_1940/harn/duw_puy_1940_meta.html" target="_blank">Metadata</a>
Name: Imagery/PuyallupRiver_1940_3ft
Description: This is a tile mosaic composed of 3-foot aerial photographs of the Puyallup River in 1940.
Contact Info:
GIS Team
gisteam@cityoftacoma.org
Company: Army Corps of Engineers
Scale: Approx. 1:15,000
<a href="http://riverhistory.ess.washington.edu/index.html" target="_blank">Puget Sound River History Project - Version 1</a>
<a href="file:////fs005/Orthos/1940/Puget Sound River History Project.htm" target="_blank">Puget Sound River History Project - Version 2</a>
<a href="http://riverhistory.ess.washington.edu/duw_puy/photo_1940/harn/duw_puy_1940_meta.html" target="_blank">Metadata</a>
Single Fused Map Cache: false
Extent:
XMin: 1142687.5873008817
YMin: 658328.7055209728
XMax: 1191072.7155390815
YMax: 750622.5831894726
Spatial Reference: 2927
(2927)
LatestVCSWkid(0)
Initial Extent:
XMin: 1142687.5873008817
YMin: 658328.7055209728
XMax: 1191072.7155390815
YMax: 750622.5831894726
Spatial Reference: 2927
(2927)
LatestVCSWkid(0)
Full Extent:
XMin: 1142687.5873008817
YMin: 658328.7055209728
XMax: 1191072.7155390815
YMax: 750622.5831894726
Spatial Reference: 2927
(2927)
LatestVCSWkid(0)
Pixel Size X: 3.3530927399999824
Pixel Size Y: 3.3530927399999895
Band Count: 1
Pixel Type: U8
RasterFunction Infos: {"rasterFunctionInfos": [{
"name": "None",
"description": "",
"help": ""
}]}
Mensuration Capabilities: None
Inspection Capabilities:
Has Histograms: true
Has Colormap: false
Has Multi Dimensions : false
Rendering Rule:
Min Scale: 0
Max Scale: 0
Copyright Text: City of Tacoma, IT GIS Team
Service Data Type: esriImageServiceDataTypeGeneric
Min Values: 0
Max Values: 255
Mean Values: 53.82980709199017
Standard Deviation Values: 77.33718749362806
Object ID Field: OBJECTID
Fields:
-
OBJECTID
(
type: esriFieldTypeOID, alias: OBJECTID
)
-
Shape
(
type: esriFieldTypeGeometry, alias: Shape
)
-
Name
(
type: esriFieldTypeString, alias: Name, length: 200
)
-
MinPS
(
type: esriFieldTypeDouble, alias: MinPS
)
-
MaxPS
(
type: esriFieldTypeDouble, alias: MaxPS
)
-
LowPS
(
type: esriFieldTypeDouble, alias: LowPS
)
-
HighPS
(
type: esriFieldTypeDouble, alias: HighPS
)
-
Category
(
type: esriFieldTypeInteger, alias: Category
,
Coded Values:
[0: Unknown]
,
[1: Primary]
,
[2: Overview]
, ...6 more...
)
-
Tag
(
type: esriFieldTypeString, alias: Tag, length: 100
)
-
GroupName
(
type: esriFieldTypeString, alias: GroupName, length: 100
)
-
ProductName
(
type: esriFieldTypeString, alias: ProductName, length: 100
)
-
CenterX
(
type: esriFieldTypeDouble, alias: CenterX
)
-
CenterY
(
type: esriFieldTypeDouble, alias: CenterY
)
-
ZOrder
(
type: esriFieldTypeInteger, alias: ZOrder
)
-
Shape_Length
(
type: esriFieldTypeDouble, alias: Shape_Length
)
-
Shape_Area
(
type: esriFieldTypeDouble, alias: Shape_Area
)
Default Mosaic Method: Northwest
Allowed Mosaic Methods: NorthWest,Center,LockRaster,ByAttribute,Nadir,Viewpoint,Seamline,None
SortField:
SortValue: null
Mosaic Operator: First
Default Compression Quality: 75
Default Resampling Method: Nearest
Max Record Count: 1000
Max Image Height: 4100
Max Image Width: 15000
Max Download Image Count: 20
Max Mosaic Image Count: 20
Allow Raster Function: true
Allow Copy: true
Allow Analysis: true
Allow Compute TiePoints: false
Supports Statistics: true
Supports Advanced Queries: true
Use StandardizedQueries: true
Raster Type Infos:
Name: Raster Dataset
Description: Supports all ArcGIS Raster Datasets
Help:
Has Raster Attribute Table: false
Edit Fields Info: null
Ownership Based AccessControl For Rasters: null
Child Resources:
Info
Histograms
Statistics
Key Properties
Legend
Raster Function Infos
Supported Operations:
Export Image
Query
Identify
Compute Histograms
Compute Statistics Histograms
Get Samples
Compute Class Statistics
Query GPS Info
Find Images
Image to Map
Map to Image
Measure from Image
Image to Map Multiray
Query Boundary
Compute Pixel Location
Compute Angles
Validate
Project