View In:
ArcGIS JavaScript
ArcGIS Online Map Viewer
ArcGIS Earth
Service Description: Service Area 2006 - 6 inch Aerials for ArcGIS Online/Bing Maps/Google Maps, etc.
Contact Info:
GIS Team
GISteam@cityoftacoma.org
Photos taken in May of 2006 and supplied by:
Pictometry International Corp.
100 Town Centre Drive, Suite A
Rochester, NY 14623
Additional processing performed by:
Blue Sky GIS
4300 SE 51st Ave.
Portland, OR 97206
888.247.8195
503.774.3568
Email: info@blueskygis.com
Website: http://www.blueskygis.com
Name: Imagery/ServiceArea_2006_6in
Description: Service Area 2006 - 6 inch Aerials for ArcGIS Online/Bing Maps/Google Maps, etc.
Contact Info:
GIS Team
GISteam@cityoftacoma.org
Photos taken in May of 2006 and supplied by:
Pictometry International Corp.
100 Town Centre Drive, Suite A
Rochester, NY 14623
Additional processing performed by:
Blue Sky GIS
4300 SE 51st Ave.
Portland, OR 97206
888.247.8195
503.774.3568
Email: info@blueskygis.com
Website: http://www.blueskygis.com
Single Fused Map Cache: false
Extent:
XMin: 1099999.764084
YMin: 583999.744361
XMax: 1265000.264084
YMax: 737000.244361
Spatial Reference: 2927
(2927)
LatestVCSWkid(0)
Initial Extent:
XMin: 1099999.764084
YMin: 583999.744361
XMax: 1265000.264084
YMax: 737000.244361
Spatial Reference: 2927
(2927)
LatestVCSWkid(0)
Full Extent:
XMin: 1099999.764084
YMin: 583999.744361
XMax: 1265000.264084
YMax: 737000.244361
Spatial Reference: 2927
(2927)
LatestVCSWkid(0)
Pixel Size X: 0.5
Pixel Size Y: 0.5
Band Count: 3
Pixel Type: U8
RasterFunction Infos: {"rasterFunctionInfos": [{
"name": "None",
"description": "",
"help": ""
}]}
Mensuration Capabilities: None
Inspection Capabilities:
Has Histograms: true
Has Colormap: false
Has Multi Dimensions : false
Rendering Rule:
Min Scale: 0
Max Scale: 0
Copyright Text: City of Tacoma, IT GIS Team
Service Data Type: esriImageServiceDataTypeRGB
Min Values: 0, 0, 0
Max Values: 255, 255, 255
Mean Values: 97.48269566011554, 111.86938603393564, 83.56454403575185
Standard Deviation Values: 52.25694877414534, 49.42432511170219, 40.46717234197255
Object ID Field: OBJECTID
Fields:
-
OBJECTID
(
type: esriFieldTypeOID, alias: OBJECTID
)
-
Shape
(
type: esriFieldTypeGeometry, alias: Shape
)
-
Name
(
type: esriFieldTypeString, alias: Name, length: 200
)
-
MinPS
(
type: esriFieldTypeDouble, alias: MinPS
)
-
MaxPS
(
type: esriFieldTypeDouble, alias: MaxPS
)
-
LowPS
(
type: esriFieldTypeDouble, alias: LowPS
)
-
HighPS
(
type: esriFieldTypeDouble, alias: HighPS
)
-
Category
(
type: esriFieldTypeInteger, alias: Category
,
Coded Values:
[0: Unknown]
,
[1: Primary]
,
[2: Overview]
, ...6 more...
)
-
Tag
(
type: esriFieldTypeString, alias: Tag, length: 100
)
-
GroupName
(
type: esriFieldTypeString, alias: GroupName, length: 100
)
-
ProductName
(
type: esriFieldTypeString, alias: ProductName, length: 100
)
-
CenterX
(
type: esriFieldTypeDouble, alias: CenterX
)
-
CenterY
(
type: esriFieldTypeDouble, alias: CenterY
)
-
ZOrder
(
type: esriFieldTypeInteger, alias: ZOrder
)
-
Shape_Length
(
type: esriFieldTypeDouble, alias: Shape_Length
)
-
Shape_Area
(
type: esriFieldTypeDouble, alias: Shape_Area
)
Default Mosaic Method: Northwest
Allowed Mosaic Methods: NorthWest,Center,LockRaster,ByAttribute,Nadir,Viewpoint,Seamline,None
SortField:
SortValue: null
Mosaic Operator: First
Default Compression Quality: 75
Default Resampling Method: Nearest
Max Record Count: 1000
Max Image Height: 4100
Max Image Width: 15000
Max Download Image Count: 20
Max Mosaic Image Count: 20
Allow Raster Function: true
Allow Copy: true
Allow Analysis: true
Allow Compute TiePoints: false
Supports Statistics: true
Supports Advanced Queries: true
Use StandardizedQueries: true
Raster Type Infos:
Name: Raster Dataset
Description: Supports all ArcGIS Raster Datasets
Help:
Has Raster Attribute Table: false
Edit Fields Info: null
Ownership Based AccessControl For Rasters: null
Child Resources:
Info
Histograms
Statistics
Key Properties
Legend
Raster Function Infos
Supported Operations:
Export Image
Query
Identify
Compute Histograms
Compute Statistics Histograms
Get Samples
Compute Class Statistics
Query GPS Info
Find Images
Image to Map
Map to Image
Measure from Image
Image to Map Multiray
Query Boundary
Compute Pixel Location
Compute Angles
Validate
Project