View In:
ArcGIS JavaScript
ArcGIS Online Map Viewer
ArcGIS Earth
Service Description: Aerial photography of the Service Area from 2009.
Contact Info:
Name: GIS Team
Email: GISteam@cityoftacoma.org
Company: DigitalGlobe
PROJECT SPECIFICATIONS -- ACCURACY REPORT
Project: WA Seattle-30cm-0709_4488
Datum: NAD 83
Projection: UTM
Zone: 10
Units: meters
GSD (pixel size): 30 cm
Camera Type: Leica Geosystems ADS40-SH51
Average Acquisition Altitude: 9,600 feet above ground level
DEM Source: National Elevation Dataset (NED)
Reference Source: Airborne GPS/IMU
Photo Date Range: July 2 through July 22, 2009
Cloud cover: Entire Market is cloud free
Resolution: Entire Market acquired at 30 cm GSD
Sun Angle: Entire Market acquired with sun angle above 30 degrees
Accuracy Points Measured: 47
Accuracy: 2.01 meters CE90
Accuracy report, date prepared: September 30, 2009
Accuracy report prepared by: Mark Meyer
Name: Imagery/ServiceArea_2009_30cm
Description: Aerial photography of the Service Area from 2009.
Contact Info:
Name: GIS Team
Email: GISteam@cityoftacoma.org
Company: DigitalGlobe
PROJECT SPECIFICATIONS -- ACCURACY REPORT
Project: WA Seattle-30cm-0709_4488
Datum: NAD 83
Projection: UTM
Zone: 10
Units: meters
GSD (pixel size): 30 cm
Camera Type: Leica Geosystems ADS40-SH51
Average Acquisition Altitude: 9,600 feet above ground level
DEM Source: National Elevation Dataset (NED)
Reference Source: Airborne GPS/IMU
Photo Date Range: July 2 through July 22, 2009
Cloud cover: Entire Market is cloud free
Resolution: Entire Market acquired at 30 cm GSD
Sun Angle: Entire Market acquired with sun angle above 30 degrees
Accuracy Points Measured: 47
Accuracy: 2.01 meters CE90
Accuracy report, date prepared: September 30, 2009
Accuracy report prepared by: Mark Meyer
Single Fused Map Cache: false
Extent:
XMin: 1105996.6570739746
YMin: 539001.0605672281
XMax: 1264997.3233239707
YMax: 740002.6270672232
Spatial Reference: 2927
(2927)
LatestVCSWkid(0)
Initial Extent:
XMin: 1105996.6570739746
YMin: 539001.0605672281
XMax: 1264997.3233239707
YMax: 740002.6270672232
Spatial Reference: 2927
(2927)
LatestVCSWkid(0)
Full Extent:
XMin: 1105996.6570739746
YMin: 539001.0605672281
XMax: 1264997.3233239707
YMax: 740002.6270672232
Spatial Reference: 2927
(2927)
LatestVCSWkid(0)
Pixel Size X: 0.9842499999999755
Pixel Size Y: 0.9842499999999759
Band Count: 3
Pixel Type: U8
RasterFunction Infos: {"rasterFunctionInfos": [{
"name": "None",
"description": "",
"help": ""
}]}
Mensuration Capabilities: None
Inspection Capabilities:
Has Histograms: true
Has Colormap: false
Has Multi Dimensions : false
Rendering Rule:
Min Scale: 0
Max Scale: 0
Copyright Text: City of Tacoma, GIS Team
Service Data Type: esriImageServiceDataTypeRGB
Min Values: 0, 27, 37
Max Values: 255, 253, 245
Mean Values: 104.30709313980903, 133.3910942373435, 114.10087859290797
Standard Deviation Values: 47.90960510348039, 34.13831017418196, 29.13693203744953
Object ID Field: OBJECTID
Fields:
-
OBJECTID
(
type: esriFieldTypeOID, alias: OBJECTID
)
-
Shape
(
type: esriFieldTypeGeometry, alias: Shape
)
-
Name
(
type: esriFieldTypeString, alias: Name, length: 200
)
-
MinPS
(
type: esriFieldTypeDouble, alias: MinPS
)
-
MaxPS
(
type: esriFieldTypeDouble, alias: MaxPS
)
-
LowPS
(
type: esriFieldTypeDouble, alias: LowPS
)
-
HighPS
(
type: esriFieldTypeDouble, alias: HighPS
)
-
Category
(
type: esriFieldTypeInteger, alias: Category
,
Coded Values:
[0: Unknown]
,
[1: Primary]
,
[2: Overview]
, ...6 more...
)
-
Tag
(
type: esriFieldTypeString, alias: Tag, length: 100
)
-
GroupName
(
type: esriFieldTypeString, alias: GroupName, length: 100
)
-
ProductName
(
type: esriFieldTypeString, alias: ProductName, length: 100
)
-
CenterX
(
type: esriFieldTypeDouble, alias: CenterX
)
-
CenterY
(
type: esriFieldTypeDouble, alias: CenterY
)
-
ZOrder
(
type: esriFieldTypeInteger, alias: ZOrder
)
-
Shape_Length
(
type: esriFieldTypeDouble, alias: Shape_Length
)
-
Shape_Area
(
type: esriFieldTypeDouble, alias: Shape_Area
)
Default Mosaic Method: Northwest
Allowed Mosaic Methods: NorthWest,Center,LockRaster,ByAttribute,Nadir,Viewpoint,Seamline,None
SortField:
SortValue: null
Mosaic Operator: First
Default Compression Quality: 75
Default Resampling Method: Nearest
Max Record Count: 1000
Max Image Height: 4100
Max Image Width: 15000
Max Download Image Count: 20
Max Mosaic Image Count: 20
Allow Raster Function: true
Allow Copy: true
Allow Analysis: true
Allow Compute TiePoints: false
Supports Statistics: true
Supports Advanced Queries: true
Use StandardizedQueries: true
Raster Type Infos:
Name: Raster Dataset
Description: Supports all ArcGIS Raster Datasets
Help:
Has Raster Attribute Table: false
Edit Fields Info: null
Ownership Based AccessControl For Rasters: null
Child Resources:
Info
Histograms
Statistics
Key Properties
Legend
Raster Function Infos
Supported Operations:
Export Image
Query
Identify
Compute Histograms
Compute Statistics Histograms
Get Samples
Compute Class Statistics
Query GPS Info
Find Images
Image to Map
Map to Image
Measure from Image
Image to Map Multiray
Query Boundary
Compute Pixel Location
Compute Angles
Validate
Project