View In:
ArcGIS JavaScript
ArcGIS Online Map Viewer
ArcGIS Earth
Service Description: This is a mosaic dataset of 4-inch aerials of the City of Tacoma from 2012.
Contact Info:
GIS Team
GISteam@cityoftacoma.org
Company: Pictometry International Corp.
Title: WA City of Tacoma 2012 Accuplus Project
Flight Height: 3,500 feet
Flight Date: Between May 6th, 2012 and May 7th, 2012
Dataset is orthoimagery. Logical consistency is not applicable.
The 2012 City of Tacoma, WA Orthogonal data associated with this metadata file completely covers the project-specified boundary.
GPS/INS processing: Data was post-processed using NGS CORS base station data.
AeroTriangulation: Imagery was aerotriangulated using Inpho's Match-AT software.
Rectification: Ortho-rectification was performed using Inpho's OrthoMaster software. A LiDAR based DEM was used as the rectification surface.
Mosaicing: Mosaiking was performed using Inpho's OrthoVista software and SeamEditor was employed for manual corrections.
Name: Imagery/Tacoma_2012_4in
Description: This is a mosaic dataset of 4-inch aerials of the City of Tacoma from 2012.
Contact Info:
GIS Team
GISteam@cityoftacoma.org
Company: Pictometry International Corp.
Title: WA City of Tacoma 2012 Accuplus Project
Flight Height: 3,500 feet
Flight Date: Between May 6th, 2012 and May 7th, 2012
Dataset is orthoimagery. Logical consistency is not applicable.
The 2012 City of Tacoma, WA Orthogonal data associated with this metadata file completely covers the project-specified boundary.
GPS/INS processing: Data was post-processed using NGS CORS base station data.
AeroTriangulation: Imagery was aerotriangulated using Inpho's Match-AT software.
Rectification: Ortho-rectification was performed using Inpho's OrthoMaster software. A LiDAR based DEM was used as the rectification surface.
Mosaicing: Mosaiking was performed using Inpho's OrthoVista software and SeamEditor was employed for manual corrections.
Single Fused Map Cache: false
Extent:
XMin: 1127000.0
YMin: 671000.0
XMax: 1184000.0
YMax: 731000.0
Spatial Reference: 2927
(2927)
LatestVCSWkid(0)
Initial Extent:
XMin: 1127000.0
YMin: 671000.0
XMax: 1184000.0
YMax: 731000.0
Spatial Reference: 2927
(2927)
LatestVCSWkid(0)
Full Extent:
XMin: 1127000.0
YMin: 671000.0
XMax: 1184000.0
YMax: 731000.0
Spatial Reference: 2927
(2927)
LatestVCSWkid(0)
Pixel Size X: 0.32
Pixel Size Y: 0.32
Band Count: 3
Pixel Type: U8
RasterFunction Infos: {"rasterFunctionInfos": [{
"name": "None",
"description": "",
"help": ""
}]}
Mensuration Capabilities: None
Inspection Capabilities:
Has Histograms: true
Has Colormap: false
Has Multi Dimensions : false
Rendering Rule:
Min Scale: 0
Max Scale: 0
Copyright Text: City of Tacoma, GIS Team
Service Data Type: esriImageServiceDataTypeRGB
Min Values: 9, 17, 34
Max Values: 255, 255, 255
Mean Values: 137.82356166499133, 148.5511483512217, 132.72547069271653
Standard Deviation Values: 37.25582334066037, 30.267779923887367, 30.504790780605024
Object ID Field: OBJECTID
Fields:
-
OBJECTID
(
type: esriFieldTypeOID, alias: OBJECTID
)
-
Shape
(
type: esriFieldTypeGeometry, alias: Shape
)
-
Name
(
type: esriFieldTypeString, alias: Name, length: 200
)
-
MinPS
(
type: esriFieldTypeDouble, alias: MinPS
)
-
MaxPS
(
type: esriFieldTypeDouble, alias: MaxPS
)
-
LowPS
(
type: esriFieldTypeDouble, alias: LowPS
)
-
HighPS
(
type: esriFieldTypeDouble, alias: HighPS
)
-
Category
(
type: esriFieldTypeInteger, alias: Category
,
Coded Values:
[0: Unknown]
,
[1: Primary]
,
[2: Overview]
, ...6 more...
)
-
Tag
(
type: esriFieldTypeString, alias: Tag, length: 100
)
-
GroupName
(
type: esriFieldTypeString, alias: GroupName, length: 100
)
-
ProductName
(
type: esriFieldTypeString, alias: ProductName, length: 100
)
-
CenterX
(
type: esriFieldTypeDouble, alias: CenterX
)
-
CenterY
(
type: esriFieldTypeDouble, alias: CenterY
)
-
ZOrder
(
type: esriFieldTypeInteger, alias: ZOrder
)
-
Shape_Length
(
type: esriFieldTypeDouble, alias: Shape_Length
)
-
Shape_Area
(
type: esriFieldTypeDouble, alias: Shape_Area
)
Default Mosaic Method: Northwest
Allowed Mosaic Methods: NorthWest,Center,LockRaster,ByAttribute,Nadir,Viewpoint,Seamline,None
SortField:
SortValue: null
Mosaic Operator: First
Default Compression Quality: 75
Default Resampling Method: Nearest
Max Record Count: 1000
Max Image Height: 4100
Max Image Width: 15000
Max Download Image Count: 20
Max Mosaic Image Count: 20
Allow Raster Function: true
Allow Copy: true
Allow Analysis: true
Allow Compute TiePoints: false
Supports Statistics: true
Supports Advanced Queries: true
Use StandardizedQueries: true
Raster Type Infos:
Name: Raster Dataset
Description: Supports all ArcGIS Raster Datasets
Help:
Has Raster Attribute Table: false
Edit Fields Info: null
Ownership Based AccessControl For Rasters: null
Child Resources:
Info
Histograms
Statistics
Key Properties
Legend
Raster Function Infos
Supported Operations:
Export Image
Query
Identify
Compute Histograms
Compute Statistics Histograms
Get Samples
Compute Class Statistics
Query GPS Info
Find Images
Image to Map
Map to Image
Measure from Image
Image to Map Multiray
Query Boundary
Compute Pixel Location
Compute Angles
Validate
Project