View In:
ArcGIS JavaScript
ArcGIS Online Map Viewer
ArcGIS Earth
Service Description: Tacoma 2015 - 3 inch Aerial Photography. Includes Fife, part of Milton and University Place.
Contact Info:
GIS Team
Email: GISteam@cityoftacoma.org
Company: GeoTerra, Inc.
Flight Time Date Range:
Beginning Date: 03/26/2015
Ending Date: 06/07/2015
Detailed Metadata:
\\tpucohesity\bigdatasets\2015\Documentation\3inch\2015_KingCo_3inch_RGB_metadata_fgdc_classic.htm
Frequently Anticipated Questions:
\\tpucohesity\bigdatasets\2015\Documentation\3inch\2015_KingCo_3inch_RGB_metadata_fgdc_faq.htm
Name: Imagery/Tacoma_2015_3in
Description: Tacoma 2015 - 3 inch Aerial Photography. Includes Fife, part of Milton and University Place.
Contact Info:
GIS Team
Email: GISteam@cityoftacoma.org
Company: GeoTerra, Inc.
Flight Time Date Range:
Beginning Date: 03/26/2015
Ending Date: 06/07/2015
Detailed Metadata:
\\tpucohesity\bigdatasets\2015\Documentation\3inch\2015_KingCo_3inch_RGB_metadata_fgdc_classic.htm
Frequently Anticipated Questions:
\\tpucohesity\bigdatasets\2015\Documentation\3inch\2015_KingCo_3inch_RGB_metadata_fgdc_faq.htm
Single Fused Map Cache: false
Extent:
XMin: 1126246.6185424775
YMin: 672510.7809020579
XMax: 1192218.3685424775
YMax: 732639.0309020579
Spatial Reference: 2927
(2927)
LatestVCSWkid(0)
Initial Extent:
XMin: 1126246.6185424775
YMin: 672510.7809020579
XMax: 1192218.3685424775
YMax: 732639.0309020579
Spatial Reference: 2927
(2927)
LatestVCSWkid(0)
Full Extent:
XMin: 1126246.6185424775
YMin: 672510.7809020579
XMax: 1192218.3685424775
YMax: 732639.0309020579
Spatial Reference: 2927
(2927)
LatestVCSWkid(0)
Pixel Size X: 0.25
Pixel Size Y: 0.25
Band Count: 3
Pixel Type: U8
RasterFunction Infos: {"rasterFunctionInfos": [{
"name": "None",
"description": "",
"help": ""
}]}
Mensuration Capabilities: None
Inspection Capabilities:
Has Histograms: true
Has Colormap: false
Has Multi Dimensions : false
Rendering Rule:
Min Scale: 0
Max Scale: 0
Copyright Text: City of Tacoma, IT GIS Team
Service Data Type: esriImageServiceDataTypeRGB
Min Values: 0, 0, 0
Max Values: 255, 255, 255
Mean Values: 94.14259682357002, 98.7899552689931, 94.6626847943029
Standard Deviation Values: 51.375794656163045, 44.334330199243986, 40.15067143264603
Object ID Field: OBJECTID
Fields:
-
OBJECTID
(
type: esriFieldTypeOID, alias: OBJECTID
)
-
Shape
(
type: esriFieldTypeGeometry, alias: Shape
)
-
Name
(
type: esriFieldTypeString, alias: Name, length: 200
)
-
MinPS
(
type: esriFieldTypeDouble, alias: MinPS
)
-
MaxPS
(
type: esriFieldTypeDouble, alias: MaxPS
)
-
LowPS
(
type: esriFieldTypeDouble, alias: LowPS
)
-
HighPS
(
type: esriFieldTypeDouble, alias: HighPS
)
-
Category
(
type: esriFieldTypeInteger, alias: Category
,
Coded Values:
[0: Unknown]
,
[1: Primary]
,
[2: Overview]
, ...6 more...
)
-
Tag
(
type: esriFieldTypeString, alias: Tag, length: 100
)
-
GroupName
(
type: esriFieldTypeString, alias: GroupName, length: 100
)
-
ProductName
(
type: esriFieldTypeString, alias: ProductName, length: 100
)
-
CenterX
(
type: esriFieldTypeDouble, alias: CenterX
)
-
CenterY
(
type: esriFieldTypeDouble, alias: CenterY
)
-
ZOrder
(
type: esriFieldTypeInteger, alias: ZOrder
)
-
Shape_Length
(
type: esriFieldTypeDouble, alias: Shape_Length
)
-
Shape_Area
(
type: esriFieldTypeDouble, alias: Shape_Area
)
Default Mosaic Method: Northwest
Allowed Mosaic Methods: NorthWest,Center,LockRaster,ByAttribute,Nadir,Viewpoint,Seamline,None
SortField:
SortValue: null
Mosaic Operator: First
Default Compression Quality: 75
Default Resampling Method: Nearest
Max Record Count: 1000
Max Image Height: 4100
Max Image Width: 15000
Max Download Image Count: 20
Max Mosaic Image Count: 20
Allow Raster Function: true
Allow Copy: true
Allow Analysis: true
Allow Compute TiePoints: false
Supports Statistics: true
Supports Advanced Queries: true
Use StandardizedQueries: true
Raster Type Infos:
Name: Raster Dataset
Description: Supports all ArcGIS Raster Datasets
Help:
Has Raster Attribute Table: false
Edit Fields Info: null
Ownership Based AccessControl For Rasters: null
Child Resources:
Info
Histograms
Statistics
Key Properties
Legend
Raster Function Infos
Supported Operations:
Export Image
Query
Identify
Compute Histograms
Compute Statistics Histograms
Get Samples
Compute Class Statistics
Query GPS Info
Find Images
Image to Map
Map to Image
Measure from Image
Image to Map Multiray
Query Boundary
Compute Pixel Location
Compute Angles
Validate
Project