View In:
ArcGIS JavaScript
ArcGIS Online Map Viewer
ArcGIS Earth
Service Description: This dataset represents a tiled, true-color and near-infrared orthophoto mosaic (4-band) of the City of Tacoma study area located in Pierce County, WA. The data is projected in WA State Plane South, the horizontal datum is NAD83(HARN) and units are US survey feet. The acquisition flight parameters were designed to yield a native pixel resolution of less than or equal to 0.25 ft. The Orthoimagery data was collected on 08/09/2024 and 08/15/2024 for Washington DNR.
Name: Imagery/Tacoma_2024_3in
Description: This dataset represents a tiled, true-color and near-infrared orthophoto mosaic (4-band) of the City of Tacoma study area located in Pierce County, WA. The data is projected in WA State Plane South, the horizontal datum is NAD83(HARN) and units are US survey feet. The acquisition flight parameters were designed to yield a native pixel resolution of less than or equal to 0.25 ft. The Orthoimagery data was collected on 08/09/2024 and 08/15/2024 for Washington DNR.
Single Fused Map Cache: false
Extent:
XMin: 1126782.000017643
YMin: 673030.4999484718
XMax: 1183024.250017643
YMax: 732203.7499484718
Spatial Reference: 2927
(2927)
LatestVCSWkid(0)
Initial Extent:
XMin: 1126782.000017643
YMin: 673030.4999484718
XMax: 1183024.250017643
YMax: 732203.7499484718
Spatial Reference: 2927
(2927)
LatestVCSWkid(0)
Full Extent:
XMin: 1126782.000017643
YMin: 673030.4999484718
XMax: 1183024.250017643
YMax: 732203.7499484718
Spatial Reference: 2927
(2927)
LatestVCSWkid(0)
Pixel Size X: 0.25
Pixel Size Y: 0.25
Band Count: 4
Pixel Type: U8
RasterFunction Infos: {"rasterFunctionInfos": [{
"name": "None",
"description": "",
"help": ""
}]}
Mensuration Capabilities: None
Inspection Capabilities:
Has Histograms: true
Has Colormap: false
Has Multi Dimensions : false
Rendering Rule:
Min Scale: 0
Max Scale: 0
Copyright Text: City of Tacoma, Environmental Services, Washington DNR
Service Data Type: esriImageServiceDataTypeGeneric
Min Values: 1, 10, 29, 1
Max Values: 250, 250, 245, 251
Mean Values: 100.82644073395446, 107.26630670647145, 100.59422248070409, 140.57944045106794
Standard Deviation Values: 36.435831344872874, 30.69229810964023, 27.977730318593785, 42.45658442388508
Object ID Field: OBJECTID
Fields:
-
OBJECTID
(
type: esriFieldTypeOID, alias: OBJECTID
)
-
Shape
(
type: esriFieldTypeGeometry, alias: Shape
)
-
Name
(
type: esriFieldTypeString, alias: Name, length: 200
)
-
MinPS
(
type: esriFieldTypeDouble, alias: MinPS
)
-
MaxPS
(
type: esriFieldTypeDouble, alias: MaxPS
)
-
LowPS
(
type: esriFieldTypeDouble, alias: LowPS
)
-
HighPS
(
type: esriFieldTypeDouble, alias: HighPS
)
-
Category
(
type: esriFieldTypeInteger, alias: Category
,
Coded Values:
[0: Unknown]
,
[1: Primary]
,
[2: Overview]
, ...6 more...
)
-
Tag
(
type: esriFieldTypeString, alias: Tag, length: 100
)
-
GroupName
(
type: esriFieldTypeString, alias: GroupName, length: 100
)
-
ProductName
(
type: esriFieldTypeString, alias: ProductName, length: 100
)
-
CenterX
(
type: esriFieldTypeDouble, alias: CenterX
)
-
CenterY
(
type: esriFieldTypeDouble, alias: CenterY
)
-
ZOrder
(
type: esriFieldTypeInteger, alias: ZOrder
)
-
Shape_Length
(
type: esriFieldTypeDouble, alias: Shape_Length
)
-
Shape_Area
(
type: esriFieldTypeDouble, alias: Shape_Area
)
Default Mosaic Method: Northwest
Allowed Mosaic Methods: NorthWest,Center,LockRaster,ByAttribute,Nadir,Viewpoint,Seamline,None
SortField:
SortValue: null
Mosaic Operator: First
Default Compression Quality: 75
Default Resampling Method: Bilinear
Max Record Count: 1000
Max Image Height: 4100
Max Image Width: 15000
Max Download Image Count: 20
Max Mosaic Image Count: 20
Allow Raster Function: true
Allow Copy: true
Allow Analysis: true
Allow Compute TiePoints: false
Supports Statistics: true
Supports Advanced Queries: true
Use StandardizedQueries: true
Raster Type Infos:
Name: Raster Dataset
Description: Supports all ArcGIS Raster Datasets
Help:
Has Raster Attribute Table: false
Edit Fields Info: null
Ownership Based AccessControl For Rasters: null
Child Resources:
Info
Histograms
Statistics
Key Properties
Legend
Raster Function Infos
Supported Operations:
Export Image
Query
Identify
Compute Histograms
Compute Statistics Histograms
Get Samples
Compute Class Statistics
Query GPS Info
Find Images
Image to Map
Map to Image
Measure from Image
Image to Map Multiray
Query Boundary
Compute Pixel Location
Compute Angles
Validate
Project