View In:
  ArcGIS JavaScript
  ArcGIS Online Map Viewer
    ArcGIS Earth
Service Description:  LandCover/LandCoverAllClass_2017
Name:  LandCover/LandCoverAllClass_2017
Description:  
Single Fused Map Cache:  false
Extent: 
  
XMin: 1127536.5135942942
YMin: 673798.8994771641
XMax: 1182168.950260961
YMax: 730744.3236438308
	Spatial Reference: 2927
 (2927)
 LatestVCSWkid(0)
	
Initial Extent:
  
XMin: 1127536.5135942942
YMin: 673798.8994771641
XMax: 1182168.950260961
YMax: 730744.3236438308
	Spatial Reference: 2927
 (2927)
 LatestVCSWkid(0)
	
Full Extent:
  
XMin: 1127536.5135942942
YMin: 673798.8994771641
XMax: 1182168.950260961
YMax: 730744.3236438308
	Spatial Reference: 2927
 (2927)
 LatestVCSWkid(0)
	
Pixel Size X: 3.280833333333339
Pixel Size Y:  3.280833333333335
Band Count: 1
Pixel Type: U8
RasterFunction Infos:  {"rasterFunctionInfos": [{
 "name": "None",
 "description": "",
 "help": ""
}]}
Mensuration Capabilities: Basic
Inspection Capabilities: 
Has Histograms:  true
Has Colormap:  false
Has Multi Dimensions :  false
Rendering Rule: 
Min Scale:  0
Max Scale:  0
Copyright Text:  
Service Data Type:  esriImageServiceDataTypeGeneric
Min Values:  1
Max Values:  50
Mean Values:  22.789090758946298
Standard Deviation Values:  15.456650521427571
Object ID Field:  
Fields: 
None
  Default Mosaic Method:  Center
Allowed Mosaic Methods:  
SortField:  
SortValue:  null
Mosaic Operator:  First
Default Compression Quality:  75
Default Resampling Method:  Bilinear
Max Record Count:  null
Max Image Height:  4100
Max Image Width:  15000
Max Download Image Count:  null
Max Mosaic Image Count:  null
Allow Raster Function:  true
Allow Copy:  true
Allow Analysis:  true
Allow Compute TiePoints:  false
Supports Statistics:  false
Supports Advanced Queries:  false
Use StandardizedQueries:  true
Raster Type Infos: 
Name: Raster Dataset
Description: Supports all ArcGIS Raster Datasets
Help: 
Has Raster Attribute Table: true
Edit Fields Info:  null
Ownership Based AccessControl For Rasters:  null
Child Resources:
  
Info
    Raster Attribute Table
  
  Histograms
  
  Statistics
  Key Properties
  Legend
  Raster Function Infos
Supported Operations:
  
Export Image
  Identify
    Measure
  
  Compute Histograms
  Compute Statistics Histograms
  Get Samples
  Compute Class Statistics
  Query Boundary
  Compute Pixel Location
  Compute Angles
  Validate
  Project